BEGIN:VCALENDAR
VERSION:2.0
PRODID:PHP
METHOD:REQUEST
X-ORIGINAL-URL:http://www.tfvh.de/index.php/vereine-2?task=verein_begegnungen_ical&id=57
X-WR-CALNAME;VALUE=TEXT:1. TFC-Frankfurt
BEGIN:VEVENT
CLASS:PUBLIC
DTSTART:20250425T200000Z
DURATION:PT2H30M
STATUS:CONFIRMED
SUMMARY:TFC Frankfurt 1 vs. Kong Foos Darmstadt 4
DESCRIPTION:Verbandsliga Süd (5. Spieltag)\nErgebnis: 13:10 (13:10)
LOCATION:"BOWL for Fun"  Langen, Robert-Bosch-Str. 7, 63225 Langen
UID:SM-B6232@www.tfvh.de
PRIORITY:5
SEQUENCE:1
CATEGORIES:SPORT
DTSTAMP:20260419T225956
BEGIN:VALARM
ACTION:DISPLAY
TRIGGER:-PT2H
END:VALARM
END:VEVENT
BEGIN:VEVENT
CLASS:PUBLIC
DTSTART:20250425T200000Z
DURATION:PT2H30M
STATUS:CONFIRMED
SUMMARY:TFC Frankfurt 2 vs. Eintracht Frankfurt 7
DESCRIPTION:Bezirksliga Mitte (5. Spieltag)\nErgebnis: 4:18 (4:18)
LOCATION:"BOWL for Fun"  Langen, Robert-Bosch-Str. 7, 63225 Langen
UID:SM-B6316@www.tfvh.de
PRIORITY:5
SEQUENCE:1
CATEGORIES:SPORT
DTSTAMP:20260419T225956
BEGIN:VALARM
ACTION:DISPLAY
TRIGGER:-PT2H
END:VALARM
END:VEVENT
BEGIN:VEVENT
CLASS:PUBLIC
DTSTART:20250502T200000Z
DURATION:PT2H30M
STATUS:CONFIRMED
SUMMARY:SV 06 Alsfeld 2 vs. TFC Frankfurt 2
DESCRIPTION:Bezirksliga Mitte (6. Spieltag)\nErgebnis: 10:13 (10:13)
LOCATION:Vereinsheim SV 06 Alsfeld, Jahnstraße 12 / Tribüne, 36304 Alsfeld
UID:SM-B6320@www.tfvh.de
PRIORITY:5
SEQUENCE:1
CATEGORIES:SPORT
DTSTAMP:20260419T225956
BEGIN:VALARM
ACTION:DISPLAY
TRIGGER:-PT2H
END:VALARM
END:VEVENT
BEGIN:VEVENT
CLASS:PUBLIC
DTSTART:20250502T200000Z
DURATION:PT2H30M
STATUS:CONFIRMED
SUMMARY:TUS Aschaffenburg-Damm 1 vs. TFC Frankfurt 1
DESCRIPTION:Verbandsliga Süd (6. Spieltag)\nErgebnis: 11:12 (11:12)
LOCATION:Clubhaus TuS Aschaffenburg-Damm Turnhall, Schillerstraße 60, 63741 Aschaffenburg-Damm
UID:SM-B6236@www.tfvh.de
PRIORITY:5
SEQUENCE:1
CATEGORIES:SPORT
DTSTAMP:20260419T225956
BEGIN:VALARM
ACTION:DISPLAY
TRIGGER:-PT2H
END:VALARM
END:VEVENT
BEGIN:VEVENT
CLASS:PUBLIC
DTSTART:20250523T200000Z
DURATION:PT2H30M
STATUS:CONFIRMED
SUMMARY:TFC Frankfurt 1 vs. Rot-Weiß Radheim 1
DESCRIPTION:Pokalrunde Süd (Sechzehntelfinale)\nErgebnis: 6:13 (6:13)
LOCATION:"BOWL for Fun"  Langen, Robert-Bosch-Str. 7, 63225 Langen
UID:SM-B6463@www.tfvh.de
PRIORITY:5
SEQUENCE:1
CATEGORIES:SPORT
DTSTAMP:20260419T225956
BEGIN:VALARM
ACTION:DISPLAY
TRIGGER:-PT2H
END:VALARM
END:VEVENT
BEGIN:VEVENT
CLASS:PUBLIC
DTSTART:20250523T200000Z
DURATION:PT2H30M
STATUS:CONFIRMED
SUMMARY:TFC Frankfurt 2 vs. TSC Fränkisch-Crumbach 2
DESCRIPTION:Pokalrunde Süd (Sechzehntelfinale)\nErgebnis: 3:12 (3:12)
LOCATION:"BOWL for Fun"  Langen, Robert-Bosch-Str. 7, 63225 Langen
UID:SM-B6459@www.tfvh.de
PRIORITY:5
SEQUENCE:1
CATEGORIES:SPORT
DTSTAMP:20260419T225956
BEGIN:VALARM
ACTION:DISPLAY
TRIGGER:-PT2H
END:VALARM
END:VEVENT
BEGIN:VEVENT
CLASS:PUBLIC
DTSTART:20250530T200000Z
DURATION:PT2H30M
STATUS:CONFIRMED
SUMMARY:TFC Frankfurt 1 vs. TFC Staufenberg 3
DESCRIPTION:Verbandsliga Süd (8. Spieltag)\nErgebnis: 12:14 (12:14)
LOCATION:"BOWL for Fun"  Langen, Robert-Bosch-Str. 7, 63225 Langen
UID:SM-B6244@www.tfvh.de
PRIORITY:5
SEQUENCE:1
CATEGORIES:SPORT
DTSTAMP:20260419T225956
BEGIN:VALARM
ACTION:DISPLAY
TRIGGER:-PT2H
END:VALARM
END:VEVENT
BEGIN:VEVENT
CLASS:PUBLIC
DTSTART:20250530T200000Z
DURATION:PT2H30M
STATUS:CONFIRMED
SUMMARY:TFC Frankfurt 2 vs. VfB Rodheim 1
DESCRIPTION:Bezirksliga Mitte (8. Spieltag)\nErgebnis: 8:17 (8:17)
LOCATION:"BOWL for Fun"  Langen, Robert-Bosch-Str. 7, 63225 Langen
UID:SM-B6326@www.tfvh.de
PRIORITY:5
SEQUENCE:1
CATEGORIES:SPORT
DTSTAMP:20260419T225956
BEGIN:VALARM
ACTION:DISPLAY
TRIGGER:-PT2H
END:VALARM
END:VEVENT
BEGIN:VEVENT
CLASS:PUBLIC
DTSTART:20250606T200000Z
DURATION:PT2H30M
STATUS:CONFIRMED
SUMMARY:Eintracht Frankfurt 6 vs. TFC Frankfurt 2
DESCRIPTION:Bezirksliga Mitte (9. Spieltag)\nErgebnis: 12:13 (12:13)
LOCATION:Tom's Bierbrunnen, Hellmundstraße 54, 65183 Wiesbaden
UID:SM-B6332@www.tfvh.de
PRIORITY:5
SEQUENCE:1
CATEGORIES:SPORT
DTSTAMP:20260419T225956
BEGIN:VALARM
ACTION:DISPLAY
TRIGGER:-PT2H
END:VALARM
END:VEVENT
BEGIN:VEVENT
CLASS:PUBLIC
DTSTART:20250606T200000Z
DURATION:PT2H30M
STATUS:CONFIRMED
SUMMARY:Rot-Weiß Radheim 1 vs. TFC Frankfurt 1
DESCRIPTION:Verbandsliga Süd (9. Spieltag)\nErgebnis: 13:12 (13:12)
LOCATION:Sportlerheim SV Rot-Weiß Radheim e.V., Hofgarten 9  (Ringstraße 40), 64850 Schaafheim / Radheim
UID:SM-B6248@www.tfvh.de
PRIORITY:5
SEQUENCE:1
CATEGORIES:SPORT
DTSTAMP:20260419T225956
BEGIN:VALARM
ACTION:DISPLAY
TRIGGER:-PT2H
END:VALARM
END:VEVENT
BEGIN:VEVENT
CLASS:PUBLIC
DTSTART:20250620T200000Z
DURATION:PT2H30M
STATUS:CONFIRMED
SUMMARY:TFC Frankfurt 2 vs. TFC Florstadt 2
DESCRIPTION:Bezirksliga Mitte (10. Spieltag)\nErgebnis: 15:8 (15:8)
LOCATION:"BOWL for Fun"  Langen, Robert-Bosch-Str. 7, 63225 Langen
UID:SM-B6336@www.tfvh.de
PRIORITY:5
SEQUENCE:1
CATEGORIES:SPORT
DTSTAMP:20260419T225956
BEGIN:VALARM
ACTION:DISPLAY
TRIGGER:-PT2H
END:VALARM
END:VEVENT
BEGIN:VEVENT
CLASS:PUBLIC
DTSTART:20250625T200000Z
DURATION:PT2H30M
STATUS:CONFIRMED
SUMMARY:SV 06 Alsfeld 1 vs. TFC Frankfurt 1
DESCRIPTION:Verbandsliga Süd (7. Spieltag)\nErgebnis: 14:8 (14:8)
LOCATION:Vereinsheim SV 06 Alsfeld, Jahnstraße 12 / Tribüne, 36304 Alsfeld
UID:SM-B6238@www.tfvh.de
PRIORITY:5
SEQUENCE:1
CATEGORIES:SPORT
DTSTAMP:20260419T225956
BEGIN:VALARM
ACTION:DISPLAY
TRIGGER:-PT2H
END:VALARM
END:VEVENT
BEGIN:VEVENT
CLASS:PUBLIC
DTSTART:20250627T200000Z
DURATION:PT2H30M
STATUS:CONFIRMED
SUMMARY:TFC Florstadt 1 vs. TFC Frankfurt 1
DESCRIPTION:Verbandsliga Süd (11. Spieltag)\nErgebnis: 4:19 (4:19)
LOCATION:Kickerhof Florstadt, Im alten Steinbruch 7, 61197 Florstadt
UID:SM-B6255@www.tfvh.de
PRIORITY:5
SEQUENCE:1
CATEGORIES:SPORT
DTSTAMP:20260419T225956
BEGIN:VALARM
ACTION:DISPLAY
TRIGGER:-PT2H
END:VALARM
END:VEVENT
BEGIN:VEVENT
CLASS:PUBLIC
DTSTART:20250627T200000Z
DURATION:PT2H30M
STATUS:CONFIRMED
SUMMARY:TFC Frankfurt 2 vs. TFC Staufenberg 4
DESCRIPTION:Bezirksliga Mitte (11. Spieltag)\nErgebnis: 13:10 (13:10)
LOCATION:"BOWL for Fun"  Langen, Robert-Bosch-Str. 7, 63225 Langen
UID:SM-B6340@www.tfvh.de
PRIORITY:5
SEQUENCE:1
CATEGORIES:SPORT
DTSTAMP:20260419T225956
BEGIN:VALARM
ACTION:DISPLAY
TRIGGER:-PT2H
END:VALARM
END:VEVENT
BEGIN:VEVENT
CLASS:PUBLIC
DTSTART:20250704T200000Z
DURATION:PT2H30M
STATUS:CONFIRMED
SUMMARY:TFC Staufenberg 5 vs. TFC Frankfurt 2
DESCRIPTION:Bezirksliga Mitte (12. Spieltag)\nErgebnis: 5:18 (5:18)
LOCATION:Vereinsheim TFC Staufenberg (Stadthalle), Porstendorfer Str. 2, 35460 Staufenberg
UID:SM-B6343@www.tfvh.de
PRIORITY:5
SEQUENCE:1
CATEGORIES:SPORT
DTSTAMP:20260419T225956
BEGIN:VALARM
ACTION:DISPLAY
TRIGGER:-PT2H
END:VALARM
END:VEVENT
BEGIN:VEVENT
CLASS:PUBLIC
DTSTART:20250704T200000Z
DURATION:PT2H30M
STATUS:CONFIRMED
SUMMARY:TSC Fränkisch-Crumbach 3 vs. TFC Frankfurt 1
DESCRIPTION:Verbandsliga Süd (12. Spieltag)\nErgebnis: 13:12 (13:12)
LOCATION:Vereinsheim TSC Fr.Crumb. Schützenverein, Bahnhofstraße 58, 64407 Fränkisch - Crumbach
UID:SM-B6260@www.tfvh.de
PRIORITY:5
SEQUENCE:1
CATEGORIES:SPORT
DTSTAMP:20260419T225956
BEGIN:VALARM
ACTION:DISPLAY
TRIGGER:-PT2H
END:VALARM
END:VEVENT
BEGIN:VEVENT
CLASS:PUBLIC
DTSTART:20250822T200000Z
DURATION:PT2H30M
STATUS:CONFIRMED
SUMMARY:TFC Frankfurt 1 vs. Eintracht Frankfurt 4
DESCRIPTION:Verbandsliga Süd (13. Spieltag)\nErgebnis: 9:17 (9:17)
LOCATION:"BOWL for Fun"  Langen, Robert-Bosch-Str. 7, 63225 Langen
UID:SM-B6261@www.tfvh.de
PRIORITY:5
SEQUENCE:1
CATEGORIES:SPORT
DTSTAMP:20260419T225956
BEGIN:VALARM
ACTION:DISPLAY
TRIGGER:-PT2H
END:VALARM
END:VEVENT
BEGIN:VEVENT
CLASS:PUBLIC
DTSTART:20250822T200000Z
DURATION:PT2H30M
STATUS:CONFIRMED
SUMMARY:TFC Frankfurt 2 vs. Eintracht Frankfurt 5
DESCRIPTION:Bezirksliga Mitte (13. Spieltag)\nErgebnis: 10:15 (10:15)
LOCATION:"BOWL for Fun"  Langen, Robert-Bosch-Str. 7, 63225 Langen
UID:SM-B6345@www.tfvh.de
PRIORITY:5
SEQUENCE:1
CATEGORIES:SPORT
DTSTAMP:20260419T225956
BEGIN:VALARM
ACTION:DISPLAY
TRIGGER:-PT2H
END:VALARM
END:VEVENT
BEGIN:VEVENT
CLASS:PUBLIC
DTSTART:20250912T200000Z
DURATION:PT2H30M
STATUS:CONFIRMED
SUMMARY:Eintracht Frankfurt 7 vs. TFC Frankfurt 2
DESCRIPTION:Bezirksliga Mitte (14. Spieltag)\nErgebnis: 19:9 (19:9)
LOCATION:Niddahalle Eintracht Frankfurt, Oeserstraße 74, 65934 Frankfurt am Main
UID:SM-B6352@www.tfvh.de
PRIORITY:5
SEQUENCE:1
CATEGORIES:SPORT
DTSTAMP:20260419T225956
BEGIN:VALARM
ACTION:DISPLAY
TRIGGER:-PT2H
END:VALARM
END:VEVENT
BEGIN:VEVENT
CLASS:PUBLIC
DTSTART:20250912T200000Z
DURATION:PT2H30M
STATUS:CONFIRMED
SUMMARY:Kong Foos Darmstadt 4 vs. TFC Frankfurt 1
DESCRIPTION:Verbandsliga Süd (14. Spieltag)\nErgebnis: 13:12 (13:12)
LOCATION:SKV Rot-Weiß Darmstadt, Winkelschneise 9, 64295 Darmstadt
UID:SM-B6268@www.tfvh.de
PRIORITY:5
SEQUENCE:1
CATEGORIES:SPORT
DTSTAMP:20260419T225956
BEGIN:VALARM
ACTION:DISPLAY
TRIGGER:-PT2H
END:VALARM
END:VEVENT
BEGIN:VEVENT
CLASS:PUBLIC
DTSTART:20250926T200000Z
DURATION:PT2H30M
STATUS:CONFIRMED
SUMMARY:TFC Frankfurt 1 vs. TUS Aschaffenburg-Damm 1
DESCRIPTION:Verbandsliga Süd (15. Spieltag)\nErgebnis: 11:16 (11:16)
LOCATION:"BOWL for Fun"  Langen, Robert-Bosch-Str. 7, 63225 Langen
UID:SM-B6272@www.tfvh.de
PRIORITY:5
SEQUENCE:1
CATEGORIES:SPORT
DTSTAMP:20260419T225956
BEGIN:VALARM
ACTION:DISPLAY
TRIGGER:-PT2H
END:VALARM
END:VEVENT
BEGIN:VEVENT
CLASS:PUBLIC
DTSTART:20251003T200000Z
DURATION:PT2H30M
STATUS:CONFIRMED
SUMMARY:TFC Frankfurt 1 vs. SV 06 Alsfeld 1
DESCRIPTION:Verbandsliga Süd (16. Spieltag)\nErgebnis: 8:14 (8:14)
LOCATION:"BOWL for Fun"  Langen, Robert-Bosch-Str. 7, 63225 Langen
UID:SM-B6274@www.tfvh.de
PRIORITY:5
SEQUENCE:1
CATEGORIES:SPORT
DTSTAMP:20260419T225956
BEGIN:VALARM
ACTION:DISPLAY
TRIGGER:-PT2H
END:VALARM
END:VEVENT
BEGIN:VEVENT
CLASS:PUBLIC
DTSTART:20251003T200000Z
DURATION:PT2H30M
STATUS:CONFIRMED
SUMMARY:TFC Frankfurt 2 vs. SV 06 Alsfeld 2
DESCRIPTION:Bezirksliga Mitte (15. Spieltag)\nErgebnis: 12:11 (12:11)
LOCATION:"BOWL for Fun"  Langen, Robert-Bosch-Str. 7, 63225 Langen
UID:SM-B6356@www.tfvh.de
PRIORITY:5
SEQUENCE:1
CATEGORIES:SPORT
DTSTAMP:20260419T225956
BEGIN:VALARM
ACTION:DISPLAY
TRIGGER:-PT2H
END:VALARM
END:VEVENT
BEGIN:VEVENT
CLASS:PUBLIC
DTSTART:20251031T200000Z
DURATION:PT2H30M
STATUS:CONFIRMED
SUMMARY:TFC Staufenberg 3 vs. TFC Frankfurt 1
DESCRIPTION:Verbandsliga Süd (17. Spieltag)\nErgebnis: 20:2 (20:2)
LOCATION:Vereinsheim TFC Staufenberg (Stadthalle), Porstendorfer Str. 2, 35460 Staufenberg
UID:SM-B6280@www.tfvh.de
PRIORITY:5
SEQUENCE:1
CATEGORIES:SPORT
DTSTAMP:20260419T225956
BEGIN:VALARM
ACTION:DISPLAY
TRIGGER:-PT2H
END:VALARM
END:VEVENT
BEGIN:VEVENT
CLASS:PUBLIC
DTSTART:20251031T200000Z
DURATION:PT2H30M
STATUS:CONFIRMED
SUMMARY:VfB Rodheim 1 vs. TFC Frankfurt 2
DESCRIPTION:Bezirksliga Mitte (17. Spieltag)\nErgebnis: 18:3 (18:3)
LOCATION:VfB Rodheim-Horloff Heimspielstätte, Oberndorfer Str. 20, 35410 Hungen-Rodheim
UID:SM-B6362@www.tfvh.de
PRIORITY:5
SEQUENCE:1
CATEGORIES:SPORT
DTSTAMP:20260419T225956
BEGIN:VALARM
ACTION:DISPLAY
TRIGGER:-PT2H
END:VALARM
END:VEVENT
BEGIN:VEVENT
CLASS:PUBLIC
DTSTART:20251114T200000Z
DURATION:PT2H30M
STATUS:CONFIRMED
SUMMARY:TFC Frankfurt 1 vs. Rot-Weiß Radheim 1
DESCRIPTION:Verbandsliga Süd (18. Spieltag)\nErgebnis: 7:19 (7:19)
LOCATION:"BOWL for Fun"  Langen, Robert-Bosch-Str. 7, 63225 Langen
UID:SM-B6284@www.tfvh.de
PRIORITY:5
SEQUENCE:1
CATEGORIES:SPORT
DTSTAMP:20260419T225956
BEGIN:VALARM
ACTION:DISPLAY
TRIGGER:-PT2H
END:VALARM
END:VEVENT
BEGIN:VEVENT
CLASS:PUBLIC
DTSTART:20251114T200000Z
DURATION:PT2H30M
STATUS:CONFIRMED
SUMMARY:TFC Frankfurt 2 vs. Eintracht Frankfurt 6
DESCRIPTION:Bezirksliga Mitte (18. Spieltag)\nErgebnis: 6:16 (6:16)
LOCATION:"BOWL for Fun"  Langen, Robert-Bosch-Str. 7, 63225 Langen
UID:SM-B6368@www.tfvh.de
PRIORITY:5
SEQUENCE:1
CATEGORIES:SPORT
DTSTAMP:20260419T225956
BEGIN:VALARM
ACTION:DISPLAY
TRIGGER:-PT2H
END:VALARM
END:VEVENT
BEGIN:VEVENT
CLASS:PUBLIC
DTSTART:20260213T200000Z
DURATION:PT2H30M
STATUS:CONFIRMED
SUMMARY:TFC Frankfurt 1 vs. VfB Rodheim 1
DESCRIPTION:Verbandsliga Süd (1. Spieltag)\nErgebnis: 8:16 (8:16)
LOCATION:"BOWL for Fun"  Langen, Robert-Bosch-Str. 7, 63225 Langen
UID:SM-B6480@www.tfvh.de
PRIORITY:5
SEQUENCE:1
CATEGORIES:SPORT
DTSTAMP:20260419T225956
BEGIN:VALARM
ACTION:DISPLAY
TRIGGER:-PT2H
END:VALARM
END:VEVENT
BEGIN:VEVENT
CLASS:PUBLIC
DTSTART:20260213T200000Z
DURATION:PT2H30M
STATUS:CONFIRMED
SUMMARY:TFC Frankfurt 2 vs. Rot-Weiß Radheim 3
DESCRIPTION:Bezirksliga Süd (1. Spieltag)\nErgebnis: 12:9 (12:9)
LOCATION:"BOWL for Fun"  Langen, Robert-Bosch-Str. 7, 63225 Langen
UID:SM-B6619@www.tfvh.de
PRIORITY:5
SEQUENCE:1
CATEGORIES:SPORT
DTSTAMP:20260419T225956
BEGIN:VALARM
ACTION:DISPLAY
TRIGGER:-PT2H
END:VALARM
END:VEVENT
BEGIN:VEVENT
CLASS:PUBLIC
DTSTART:20260227T200000Z
DURATION:PT2H30M
STATUS:CONFIRMED
SUMMARY:TSC Fränkisch-Crumbach 4 vs. TFC Frankfurt 2
DESCRIPTION:Bezirksliga Süd (2. Spieltag)\nErgebnis: 6:14 (6:14)
LOCATION:Vereinsheim TSC Fr.Crumb. Schützenverein, Bahnhofstraße 58, 64407 Fränkisch - Crumbach
UID:SM-B6625@www.tfvh.de
PRIORITY:5
SEQUENCE:1
CATEGORIES:SPORT
DTSTAMP:20260419T225956
BEGIN:VALARM
ACTION:DISPLAY
TRIGGER:-PT2H
END:VALARM
END:VEVENT
BEGIN:VEVENT
CLASS:PUBLIC
DTSTART:20260227T200000Z
DURATION:PT2H30M
STATUS:CONFIRMED
SUMMARY:TuS Aschaffenburg-Damm 1 vs. TFC Frankfurt 1
DESCRIPTION:Verbandsliga Süd (2. Spieltag)\nErgebnis: 14:10 (14:10)
LOCATION:Clubhaus TuS Aschaffenburg-Damm Turnhall, Schillerstraße 60, 63741 Aschaffenburg-Damm
UID:SM-B6553@www.tfvh.de
PRIORITY:5
SEQUENCE:1
CATEGORIES:SPORT
DTSTAMP:20260419T225956
BEGIN:VALARM
ACTION:DISPLAY
TRIGGER:-PT2H
END:VALARM
END:VEVENT
BEGIN:VEVENT
CLASS:PUBLIC
DTSTART:20260313T200000Z
DURATION:PT2H30M
STATUS:CONFIRMED
SUMMARY:TFC Frankfurt 1 vs. TFC Staufenberg 3
DESCRIPTION:Verbandsliga Süd (3. Spieltag)\nErgebnis: 7:20 (7:20)
LOCATION:"BOWL for Fun"  Langen, Robert-Bosch-Str. 7, 63225 Langen
UID:SM-B6557@www.tfvh.de
PRIORITY:5
SEQUENCE:1
CATEGORIES:SPORT
DTSTAMP:20260419T225956
BEGIN:VALARM
ACTION:DISPLAY
TRIGGER:-PT2H
END:VALARM
END:VEVENT
BEGIN:VEVENT
CLASS:PUBLIC
DTSTART:20260313T200000Z
DURATION:PT2H30M
STATUS:CONFIRMED
SUMMARY:TFC Frankfurt 2 vs. TuS Aschaffenburg-Damm 2
DESCRIPTION:Bezirksliga Süd (3. Spieltag)\nErgebnis: 8:16 (8:16)
LOCATION:"BOWL for Fun"  Langen, Robert-Bosch-Str. 7, 63225 Langen
UID:SM-B6630@www.tfvh.de
PRIORITY:5
SEQUENCE:1
CATEGORIES:SPORT
DTSTAMP:20260419T225956
BEGIN:VALARM
ACTION:DISPLAY
TRIGGER:-PT2H
END:VALARM
END:VEVENT
BEGIN:VEVENT
CLASS:PUBLIC
DTSTART:20260327T200000Z
DURATION:PT2H30M
STATUS:CONFIRMED
SUMMARY:TuS Aschaffenburg-Damm 4 vs. TFC Frankfurt 2
DESCRIPTION:Bezirksliga Süd (4. Spieltag)\nErgebnis: 14:10 (14:10)
LOCATION:Clubhaus TuS Aschaffenburg-Damm Turnhall, Schillerstraße 60, 63741 Aschaffenburg-Damm
UID:SM-B6634@www.tfvh.de
PRIORITY:5
SEQUENCE:1
CATEGORIES:SPORT
DTSTAMP:20260419T225956
BEGIN:VALARM
ACTION:DISPLAY
TRIGGER:-PT2H
END:VALARM
END:VEVENT
BEGIN:VEVENT
CLASS:PUBLIC
DTSTART:20260410T200000Z
DURATION:PT2H30M
STATUS:CONFIRMED
SUMMARY:Rot-Weiß Radheim 2 vs. TFC Frankfurt 1
DESCRIPTION:Verbandsliga Süd (4. Spieltag)\nErgebnis: 14:12 (14:12)
LOCATION:Sportlerheim SV Rot-Weiß Radheim e.V., Hofgarten 9  (Ringstraße 40), 64850 Schaafheim / Radheim
UID:SM-B6559@www.tfvh.de
PRIORITY:5
SEQUENCE:1
CATEGORIES:SPORT
DTSTAMP:20260419T225956
BEGIN:VALARM
ACTION:DISPLAY
TRIGGER:-PT2H
END:VALARM
END:VEVENT
BEGIN:VEVENT
CLASS:PUBLIC
DTSTART:20260417T200000Z
DURATION:PT2H30M
STATUS:CONFIRMED
SUMMARY:TFC Frankfurt 2 vs. TuS Aschaffenburg-Damm 3
DESCRIPTION:Bezirksliga Süd (5. Spieltag)\nErgebnis: 14:8 (14:8)
LOCATION:"BOWL for Fun"  Langen, Robert-Bosch-Str. 7, 63225 Langen
UID:SM-B6635@www.tfvh.de
PRIORITY:5
SEQUENCE:1
CATEGORIES:SPORT
DTSTAMP:20260419T225956
BEGIN:VALARM
ACTION:DISPLAY
TRIGGER:-PT2H
END:VALARM
END:VEVENT
BEGIN:VEVENT
CLASS:PUBLIC
DTSTART:20260417T200000Z
DURATION:PT2H30M
STATUS:CONFIRMED
SUMMARY:TSV Rot-Weiss Auerbach 1 vs. TFC Frankfurt 1
DESCRIPTION:Verbandsliga Süd (5. Spieltag)\nErgebnis: 13:9 (13:9)
LOCATION:Jugendzentrum TSV Auerbach  (OG!), Saarstraße 56, 64625 Bensheim
UID:SM-B6565@www.tfvh.de
PRIORITY:5
SEQUENCE:1
CATEGORIES:SPORT
DTSTAMP:20260419T225956
BEGIN:VALARM
ACTION:DISPLAY
TRIGGER:-PT2H
END:VALARM
END:VEVENT
BEGIN:VEVENT
CLASS:PUBLIC
DTSTART:20260424T200000Z
DURATION:PT2H30M
STATUS:TENTATIVE
SUMMARY:SV 06 Alsfeld 1 vs. TFC Frankfurt 1 (wird verlegt)
DESCRIPTION:Verbandsliga Süd (6. Spieltag)
LOCATION:Vereinsheim SV 06 Alsfeld, Jahnstraße 12 / Tribüne, 36304 Alsfeld
UID:SM-B6567@www.tfvh.de
PRIORITY:5
SEQUENCE:0
CATEGORIES:SPORT
DTSTAMP:20260419T225956
BEGIN:VALARM
ACTION:DISPLAY
TRIGGER:-PT2H
END:VALARM
END:VEVENT
BEGIN:VEVENT
CLASS:PUBLIC
DTSTART:20260508T200000Z
DURATION:PT2H30M
STATUS:CONFIRMED
SUMMARY:Kong Foos Darmstadt 4 vs. TFC Frankfurt 2
DESCRIPTION:Bezirksliga Süd (7. Spieltag)
LOCATION:SKV Rot-Weiß Darmstadt, Winkelschneise 9, 64295 Darmstadt
UID:SM-B6639@www.tfvh.de
PRIORITY:5
SEQUENCE:0
CATEGORIES:SPORT
DTSTAMP:20260419T225956
BEGIN:VALARM
ACTION:DISPLAY
TRIGGER:-PT2H
END:VALARM
END:VEVENT
BEGIN:VEVENT
CLASS:PUBLIC
DTSTART:20260508T200000Z
DURATION:PT2H30M
STATUS:CONFIRMED
SUMMARY:TFC Frankfurt 1 vs. TFC Florstadt 1
DESCRIPTION:Verbandsliga Süd (7. Spieltag)
LOCATION:"BOWL for Fun"  Langen, Robert-Bosch-Str. 7, 63225 Langen
UID:SM-B6571@www.tfvh.de
PRIORITY:5
SEQUENCE:0
CATEGORIES:SPORT
DTSTAMP:20260419T225956
BEGIN:VALARM
ACTION:DISPLAY
TRIGGER:-PT2H
END:VALARM
END:VEVENT
BEGIN:VEVENT
CLASS:PUBLIC
DTSTART:20260529T200000Z
DURATION:PT2H30M
STATUS:CONFIRMED
SUMMARY:TFC Frankfurt 2 vs. Stangenquäler Heddesheim 1
DESCRIPTION:Bezirksliga Süd (9. Spieltag)
LOCATION:"BOWL for Fun"  Langen, Robert-Bosch-Str. 7, 63225 Langen
UID:SM-B6644@www.tfvh.de
PRIORITY:5
SEQUENCE:0
CATEGORIES:SPORT
DTSTAMP:20260419T225956
BEGIN:VALARM
ACTION:DISPLAY
TRIGGER:-PT2H
END:VALARM
END:VEVENT
BEGIN:VEVENT
CLASS:PUBLIC
DTSTART:20260529T200000Z
DURATION:PT2H30M
STATUS:CONFIRMED
SUMMARY:TSC Fränkisch-Crumbach 3 vs. TFC Frankfurt 1
DESCRIPTION:Verbandsliga Süd (9. Spieltag)
LOCATION:Vereinsheim TSC Fr.Crumb. Schützenverein, Bahnhofstraße 58, 64407 Fränkisch - Crumbach
UID:SM-B6580@www.tfvh.de
PRIORITY:5
SEQUENCE:0
CATEGORIES:SPORT
DTSTAMP:20260419T225956
BEGIN:VALARM
ACTION:DISPLAY
TRIGGER:-PT2H
END:VALARM
END:VEVENT
BEGIN:VEVENT
CLASS:PUBLIC
DTSTART:20260619T200000Z
DURATION:PT2H30M
STATUS:CONFIRMED
SUMMARY:Rot-Weiß Radheim 3 vs. TFC Frankfurt 2
DESCRIPTION:Bezirksliga Süd (10. Spieltag)
LOCATION:Tischfußball MeisteR, Am Legesweg 12, 63762 Ringheim
UID:SM-B6647@www.tfvh.de
PRIORITY:5
SEQUENCE:0
CATEGORIES:SPORT
DTSTAMP:20260419T225956
BEGIN:VALARM
ACTION:DISPLAY
TRIGGER:-PT2H
END:VALARM
END:VEVENT
BEGIN:VEVENT
CLASS:PUBLIC
DTSTART:20260619T200000Z
DURATION:PT2H30M
STATUS:CONFIRMED
SUMMARY:VfB Rodheim 1 vs. TFC Frankfurt 1
DESCRIPTION:Verbandsliga Süd (10. Spieltag)
LOCATION:VfB Rodheim-Horloff Heimspielstätte, Oberndorfer Str. 20, 35410 Hungen-Rodheim
UID:SM-B6584@www.tfvh.de
PRIORITY:5
SEQUENCE:0
CATEGORIES:SPORT
DTSTAMP:20260419T225956
BEGIN:VALARM
ACTION:DISPLAY
TRIGGER:-PT2H
END:VALARM
END:VEVENT
BEGIN:VEVENT
CLASS:PUBLIC
DTSTART:20260814T200000Z
DURATION:PT2H30M
STATUS:CONFIRMED
SUMMARY:TFC Frankfurt 1 vs. TuS Aschaffenburg-Damm 1
DESCRIPTION:Verbandsliga Süd (11. Spieltag)
LOCATION:"BOWL for Fun"  Langen, Robert-Bosch-Str. 7, 63225 Langen
UID:SM-B6589@www.tfvh.de
PRIORITY:5
SEQUENCE:0
CATEGORIES:SPORT
DTSTAMP:20260419T225956
BEGIN:VALARM
ACTION:DISPLAY
TRIGGER:-PT2H
END:VALARM
END:VEVENT
BEGIN:VEVENT
CLASS:PUBLIC
DTSTART:20260828T200000Z
DURATION:PT2H30M
STATUS:CONFIRMED
SUMMARY:TFC Frankfurt 2 vs. TSC Fränkisch-Crumbach 4
DESCRIPTION:Bezirksliga Süd (12. Spieltag)
LOCATION:"BOWL for Fun"  Langen, Robert-Bosch-Str. 7, 63225 Langen
UID:SM-B6653@www.tfvh.de
PRIORITY:5
SEQUENCE:0
CATEGORIES:SPORT
DTSTAMP:20260419T225956
BEGIN:VALARM
ACTION:DISPLAY
TRIGGER:-PT2H
END:VALARM
END:VEVENT
BEGIN:VEVENT
CLASS:PUBLIC
DTSTART:20260828T200000Z
DURATION:PT2H30M
STATUS:CONFIRMED
SUMMARY:TFC Staufenberg 3 vs. TFC Frankfurt 1
DESCRIPTION:Verbandsliga Süd (12. Spieltag)
LOCATION:Vereinsheim TFC Staufenberg (Stadthalle), Porstendorfer Str. 2, 35460 Staufenberg
UID:SM-B6593@www.tfvh.de
PRIORITY:5
SEQUENCE:0
CATEGORIES:SPORT
DTSTAMP:20260419T225956
BEGIN:VALARM
ACTION:DISPLAY
TRIGGER:-PT2H
END:VALARM
END:VEVENT
BEGIN:VEVENT
CLASS:PUBLIC
DTSTART:20260911T200000Z
DURATION:PT2H30M
STATUS:CONFIRMED
SUMMARY:TFC Frankfurt 1 vs. Rot-Weiß Radheim 2
DESCRIPTION:Verbandsliga Süd (13. Spieltag)
LOCATION:"BOWL for Fun"  Langen, Robert-Bosch-Str. 7, 63225 Langen
UID:SM-B6595@www.tfvh.de
PRIORITY:5
SEQUENCE:0
CATEGORIES:SPORT
DTSTAMP:20260419T225956
BEGIN:VALARM
ACTION:DISPLAY
TRIGGER:-PT2H
END:VALARM
END:VEVENT
BEGIN:VEVENT
CLASS:PUBLIC
DTSTART:20260918T200000Z
DURATION:PT2H30M
STATUS:CONFIRMED
SUMMARY:TFC Frankfurt 1 vs. TSV Rot-Weiss Auerbach 1
DESCRIPTION:Verbandsliga Süd (14. Spieltag)
LOCATION:"BOWL for Fun"  Langen, Robert-Bosch-Str. 7, 63225 Langen
UID:SM-B6601@www.tfvh.de
PRIORITY:5
SEQUENCE:0
CATEGORIES:SPORT
DTSTAMP:20260419T225956
BEGIN:VALARM
ACTION:DISPLAY
TRIGGER:-PT2H
END:VALARM
END:VEVENT
BEGIN:VEVENT
CLASS:PUBLIC
DTSTART:20260918T200000Z
DURATION:PT2H30M
STATUS:CONFIRMED
SUMMARY:TuS Aschaffenburg-Damm 2 vs. TFC Frankfurt 2
DESCRIPTION:Bezirksliga Süd (14. Spieltag)
LOCATION:Clubhaus TuS Aschaffenburg-Damm Turnhall, Schillerstraße 60, 63741 Aschaffenburg-Damm
UID:SM-B6658@www.tfvh.de
PRIORITY:5
SEQUENCE:0
CATEGORIES:SPORT
DTSTAMP:20260419T225956
BEGIN:VALARM
ACTION:DISPLAY
TRIGGER:-PT2H
END:VALARM
END:VEVENT
BEGIN:VEVENT
CLASS:PUBLIC
DTSTART:20261002T200000Z
DURATION:PT2H30M
STATUS:CONFIRMED
SUMMARY:TFC Frankfurt 1 vs. SV 06 Alsfeld 1
DESCRIPTION:Verbandsliga Süd (15. Spieltag)
LOCATION:"BOWL for Fun"  Langen, Robert-Bosch-Str. 7, 63225 Langen
UID:SM-B6603@www.tfvh.de
PRIORITY:5
SEQUENCE:0
CATEGORIES:SPORT
DTSTAMP:20260419T225956
BEGIN:VALARM
ACTION:DISPLAY
TRIGGER:-PT2H
END:VALARM
END:VEVENT
BEGIN:VEVENT
CLASS:PUBLIC
DTSTART:20261002T200000Z
DURATION:PT2H30M
STATUS:CONFIRMED
SUMMARY:TFC Frankfurt 2 vs. TuS Aschaffenburg-Damm 4
DESCRIPTION:Bezirksliga Süd (15. Spieltag)
LOCATION:"BOWL for Fun"  Langen, Robert-Bosch-Str. 7, 63225 Langen
UID:SM-B6662@www.tfvh.de
PRIORITY:5
SEQUENCE:0
CATEGORIES:SPORT
DTSTAMP:20260419T225956
BEGIN:VALARM
ACTION:DISPLAY
TRIGGER:-PT2H
END:VALARM
END:VEVENT
BEGIN:VEVENT
CLASS:PUBLIC
DTSTART:20261023T200000Z
DURATION:PT2H30M
STATUS:CONFIRMED
SUMMARY:TFC Florstadt 1 vs. TFC Frankfurt 1
DESCRIPTION:Verbandsliga Süd (16. Spieltag)
LOCATION:Kickerhof Florstadt, Im alten Steinbruch 7, 61197 Florstadt
UID:SM-B6607@www.tfvh.de
PRIORITY:5
SEQUENCE:0
CATEGORIES:SPORT
DTSTAMP:20260419T225956
BEGIN:VALARM
ACTION:DISPLAY
TRIGGER:-PT2H
END:VALARM
END:VEVENT
BEGIN:VEVENT
CLASS:PUBLIC
DTSTART:20261023T200000Z
DURATION:PT2H30M
STATUS:CONFIRMED
SUMMARY:TuS Aschaffenburg-Damm 3 vs. TFC Frankfurt 2
DESCRIPTION:Bezirksliga Süd (16. Spieltag)
LOCATION:Clubhaus TuS Aschaffenburg-Damm Turnhall, Schillerstraße 60, 63741 Aschaffenburg-Damm
UID:SM-B6663@www.tfvh.de
PRIORITY:5
SEQUENCE:0
CATEGORIES:SPORT
DTSTAMP:20260419T225956
BEGIN:VALARM
ACTION:DISPLAY
TRIGGER:-PT2H
END:VALARM
END:VEVENT
BEGIN:VEVENT
CLASS:PUBLIC
DTSTART:20261106T200000Z
DURATION:PT2H30M
STATUS:CONFIRMED
SUMMARY:TFC Frankfurt 2 vs. Kong Foos Darmstadt 4
DESCRIPTION:Bezirksliga Süd (17. Spieltag)
LOCATION:"BOWL for Fun"  Langen, Robert-Bosch-Str. 7, 63225 Langen
UID:SM-B6667@www.tfvh.de
PRIORITY:5
SEQUENCE:0
CATEGORIES:SPORT
DTSTAMP:20260419T225956
BEGIN:VALARM
ACTION:DISPLAY
TRIGGER:-PT2H
END:VALARM
END:VEVENT
BEGIN:VEVENT
CLASS:PUBLIC
DTSTART:20261113T200000Z
DURATION:PT2H30M
STATUS:CONFIRMED
SUMMARY:Stangenquäler Heddesheim 1 vs. TFC Frankfurt 2
DESCRIPTION:Bezirksliga Süd (18. Spieltag)
LOCATION:Cafe "Pick up Station" Coffee Bike, Schulze-Delitzsch-Str. 7, 68542 Heddesheim
UID:SM-B6672@www.tfvh.de
PRIORITY:5
SEQUENCE:0
CATEGORIES:SPORT
DTSTAMP:20260419T225956
BEGIN:VALARM
ACTION:DISPLAY
TRIGGER:-PT2H
END:VALARM
END:VEVENT
BEGIN:VEVENT
CLASS:PUBLIC
DTSTART:20261113T200000Z
DURATION:PT2H30M
STATUS:CONFIRMED
SUMMARY:TFC Frankfurt 1 vs. TSC Fränkisch-Crumbach 3
DESCRIPTION:Verbandsliga Süd (18. Spieltag)
LOCATION:"BOWL for Fun"  Langen, Robert-Bosch-Str. 7, 63225 Langen
UID:SM-B6616@www.tfvh.de
PRIORITY:5
SEQUENCE:0
CATEGORIES:SPORT
DTSTAMP:20260419T225956
BEGIN:VALARM
ACTION:DISPLAY
TRIGGER:-PT2H
END:VALARM
END:VEVENT
END:VCALENDAR
