BEGIN:VCALENDAR
VERSION:2.0
PRODID:PHP
METHOD:REQUEST
X-ORIGINAL-URL:http://www.tfvh.de/index.php/vereine-2?task=verein_begegnungen_ical&id=49
X-WR-CALNAME;VALUE=TEXT:TFC Kassel e.V.
BEGIN:VEVENT
CLASS:PUBLIC
DTSTART:20250427T140000Z
DURATION:PT2H30M
STATUS:CONFIRMED
SUMMARY:TFC Kassel 2 vs. OHK Großenlüder 2
DESCRIPTION:Landesliga Hessen (6. Spieltag)\nErgebnis: 4:18 (4:18)
LOCATION:TFC Kassel, Sickingenstraße 33, 34117 Kassel
UID:SM-B6160@www.tfvh.de
PRIORITY:5
SEQUENCE:1
CATEGORIES:SPORT
DTSTAMP:20260419T225632
END:VEVENT
BEGIN:VEVENT
CLASS:PUBLIC
DTSTART:20250503T110000Z
DURATION:PT2H30M
STATUS:CONFIRMED
SUMMARY:TFC Kassel 2 vs. Rot-Weiß Darmstadt 2
DESCRIPTION:Landesliga Hessen (7. Spieltag)\nErgebnis: 4:17 (4:17)
LOCATION:Vereinsheim "Kicker-Arena" (Lüderhaus), Wiesenweg 14, 36137 Großenlüder
UID:SM-B6161@www.tfvh.de
PRIORITY:5
SEQUENCE:1
CATEGORIES:SPORT
DTSTAMP:20260419T225632
END:VEVENT
BEGIN:VEVENT
CLASS:PUBLIC
DTSTART:20250503T143000Z
DURATION:PT2H30M
STATUS:CONFIRMED
SUMMARY:TFC Kassel 2 vs. TSC Fränkisch-Crumbach 2
DESCRIPTION:Landesliga Hessen (8. Spieltag)\nErgebnis: 5:18 (5:18)
LOCATION:Vereinsheim "Kicker-Arena" (Lüderhaus), Wiesenweg 14, 36137 Großenlüder
UID:SM-B6166@www.tfvh.de
PRIORITY:5
SEQUENCE:1
CATEGORIES:SPORT
DTSTAMP:20260419T225632
END:VEVENT
BEGIN:VEVENT
CLASS:PUBLIC
DTSTART:20250503T180000Z
DURATION:PT2H30M
STATUS:CONFIRMED
SUMMARY:Eintracht Frankfurt 2 vs. TFC Kassel 2
DESCRIPTION:Landesliga Hessen (9. Spieltag)\nErgebnis: 18:8 (18:8)
LOCATION:Vereinsheim "Kicker-Arena" (Lüderhaus), Wiesenweg 14, 36137 Großenlüder
UID:SM-B6169@www.tfvh.de
PRIORITY:5
SEQUENCE:1
CATEGORIES:SPORT
DTSTAMP:20260419T225632
END:VEVENT
BEGIN:VEVENT
CLASS:PUBLIC
DTSTART:20250509T180000Z
DURATION:PT2H30M
STATUS:CONFIRMED
SUMMARY:TFC Hollenstedt 1 vs. TFC Kassel 3
DESCRIPTION:Verbandsliga Nord (2. Spieltag)\nErgebnis: 19:3 (19:3)
LOCATION:"Sporthaus-Hollenstedt" TSV Hollenstedt, Am Sportplatz, 37154 Northeim/Hollenstedt
UID:SM-B6434@www.tfvh.de
PRIORITY:5
SEQUENCE:1
CATEGORIES:SPORT
DTSTAMP:20260419T225632
END:VEVENT
BEGIN:VEVENT
CLASS:PUBLIC
DTSTART:20250518T140000Z
DURATION:PT2H30M
STATUS:CONFIRMED
SUMMARY:Kicker Wölfe Wolfhagen 1 vs. TFC Kassel 3
DESCRIPTION:Verbandsliga Nord (3. Spieltag)\nErgebnis: 16:5 (16:5)
LOCATION:JUZ Jugendzentrum Wolfhagen, Kurfürstenstr. 22, 34466 Wolfhagen
UID:SM-B6435@www.tfvh.de
PRIORITY:5
SEQUENCE:1
CATEGORIES:SPORT
DTSTAMP:20260419T225632
END:VEVENT
BEGIN:VEVENT
CLASS:PUBLIC
DTSTART:20250518T140000Z
DURATION:PT2H30M
STATUS:CONFIRMED
SUMMARY:TFC Kassel 2 vs. ASC Göttingen 2
DESCRIPTION:Landesliga Hessen (10. Spieltag)\nErgebnis: 14:13 (14:13)
LOCATION:TFC Kassel, Sickingenstraße 33, 34117 Kassel
UID:SM-B6173@www.tfvh.de
PRIORITY:5
SEQUENCE:1
CATEGORIES:SPORT
DTSTAMP:20260419T225632
END:VEVENT
BEGIN:VEVENT
CLASS:PUBLIC
DTSTART:20250615T140000Z
DURATION:PT2H30M
STATUS:CONFIRMED
SUMMARY:TFC Kassel 3 vs. ASC Göttingen 3
DESCRIPTION:Verbandsliga Nord (4. Spieltag)\nErgebnis: 6:19 (6:19)
LOCATION:TFC Kassel, Sickingenstraße 33, 34117 Kassel
UID:SM-B6439@www.tfvh.de
PRIORITY:5
SEQUENCE:1
CATEGORIES:SPORT
DTSTAMP:20260419T225632
END:VEVENT
BEGIN:VEVENT
CLASS:PUBLIC
DTSTART:20250629T140000Z
DURATION:PT2H30M
STATUS:CONFIRMED
SUMMARY:TFC Knüllwald 1 vs. TFC Kassel 3
DESCRIPTION:Verbandsliga Nord (5. Spieltag)\nErgebnis: 17:6 (17:6)
LOCATION:Knüllwald-Rengshausen, Zum Schwimmbad 2, 34593 Knüllwald
UID:SM-B6442@www.tfvh.de
PRIORITY:5
SEQUENCE:1
CATEGORIES:SPORT
DTSTAMP:20260419T225632
END:VEVENT
BEGIN:VEVENT
CLASS:PUBLIC
DTSTART:20250823T110000Z
DURATION:PT2H30M
STATUS:CONFIRMED
SUMMARY:TSC Fränkisch-Crumbach 2 vs. TFC Kassel 2
DESCRIPTION:Landesliga Hessen (14. Spieltag)\nErgebnis: 20:1 (20:1)
LOCATION:Vereinsheim TFC Staufenberg (Stadthalle), Porstendorfer Str. 2, 35460 Staufenberg
UID:SM-B6185@www.tfvh.de
PRIORITY:5
SEQUENCE:1
CATEGORIES:SPORT
DTSTAMP:20260419T225632
END:VEVENT
BEGIN:VEVENT
CLASS:PUBLIC
DTSTART:20250823T143000Z
DURATION:PT2H30M
STATUS:CONFIRMED
SUMMARY:Eintracht Frankfurt 3 vs. TFC Kassel 2
DESCRIPTION:Landesliga Hessen (15. Spieltag)\nErgebnis: 14:9 (14:9)
LOCATION:Vereinsheim TFC Staufenberg (Stadthalle), Porstendorfer Str. 2, 35460 Staufenberg
UID:SM-B6189@www.tfvh.de
PRIORITY:5
SEQUENCE:1
CATEGORIES:SPORT
DTSTAMP:20260419T225632
END:VEVENT
BEGIN:VEVENT
CLASS:PUBLIC
DTSTART:20250823T180000Z
DURATION:PT2H30M
STATUS:CONFIRMED
SUMMARY:TFC Kassel 2 vs. Kong Foos Darmstadt 3
DESCRIPTION:Landesliga Hessen (16. Spieltag)\nErgebnis: 6:19 (6:19)
LOCATION:Vereinsheim TFC Staufenberg (Stadthalle), Porstendorfer Str. 2, 35460 Staufenberg
UID:SM-B6190@www.tfvh.de
PRIORITY:5
SEQUENCE:1
CATEGORIES:SPORT
DTSTAMP:20260419T225632
END:VEVENT
BEGIN:VEVENT
CLASS:PUBLIC
DTSTART:20250907T140000Z
DURATION:PT2H30M
STATUS:CONFIRMED
SUMMARY:OHK Großenlüder 3 vs. TFC Kassel 3
DESCRIPTION:Verbandsliga Nord (6. Spieltag)\nErgebnis: 15:12 (15:12)
LOCATION:Vereinsheim "Kicker-Arena" (Lüderhaus), Wiesenweg 14, 36137 Großenlüder
UID:SM-B6446@www.tfvh.de
PRIORITY:5
SEQUENCE:1
CATEGORIES:SPORT
DTSTAMP:20260419T225632
END:VEVENT
BEGIN:VEVENT
CLASS:PUBLIC
DTSTART:20250914T140000Z
DURATION:PT2H30M
STATUS:CONFIRMED
SUMMARY:OHK Großenlüder 2 vs. TFC Kassel 2
DESCRIPTION:Landesliga Hessen (17. Spieltag)\nErgebnis: 9:14 (9:14)
LOCATION:Vereinsheim "Kicker-Arena" (Lüderhaus), Wiesenweg 14, 36137 Großenlüder
UID:SM-B6196@www.tfvh.de
PRIORITY:5
SEQUENCE:1
CATEGORIES:SPORT
DTSTAMP:20260419T225632
END:VEVENT
BEGIN:VEVENT
CLASS:PUBLIC
DTSTART:20250914T140000Z
DURATION:PT2H30M
STATUS:CONFIRMED
SUMMARY:TFC Kassel 3 vs. TFC Hollenstedt 1
DESCRIPTION:Verbandsliga Nord (7. Spieltag)\nErgebnis: 4:18 (4:18)
LOCATION:TFC Kassel, Sickingenstraße 33, 34117 Kassel
UID:SM-B6448@www.tfvh.de
PRIORITY:5
SEQUENCE:1
CATEGORIES:SPORT
DTSTAMP:20260419T225632
END:VEVENT
BEGIN:VEVENT
CLASS:PUBLIC
DTSTART:20250928T140000Z
DURATION:PT2H30M
STATUS:CONFIRMED
SUMMARY:TFC Kassel 3 vs. Kicker Wölfe Wolfhagen 1
DESCRIPTION:Verbandsliga Nord (8. Spieltag)\nErgebnis: 7:16 (7:16)
LOCATION:TFC Kassel, Sickingenstraße 33, 34117 Kassel
UID:SM-B6451@www.tfvh.de
PRIORITY:5
SEQUENCE:1
CATEGORIES:SPORT
DTSTAMP:20260419T225632
END:VEVENT
BEGIN:VEVENT
CLASS:PUBLIC
DTSTART:20251025T110000Z
DURATION:PT2H30M
STATUS:CONFIRMED
SUMMARY:Rot-Weiß Darmstadt 2 vs. TFC Kassel 2
DESCRIPTION:Landesliga Hessen (18. Spieltag)\nErgebnis: 15:11 (15:11)
LOCATION:Vereinsheim "Kicker-Arena" (Lüderhaus), Wiesenweg 14, 36137 Großenlüder
UID:SM-B6197@www.tfvh.de
PRIORITY:5
SEQUENCE:1
CATEGORIES:SPORT
DTSTAMP:20260419T225632
END:VEVENT
BEGIN:VEVENT
CLASS:PUBLIC
DTSTART:20251025T143000Z
DURATION:PT2H30M
STATUS:CONFIRMED
SUMMARY:TFC Kassel 2 vs. TFC Staufenberg 2
DESCRIPTION:Landesliga Hessen (19. Spieltag)\nErgebnis: 4:19 (4:19)
LOCATION:Vereinsheim "Kicker-Arena" (Lüderhaus), Wiesenweg 14, 36137 Großenlüder
UID:SM-B6202@www.tfvh.de
PRIORITY:5
SEQUENCE:1
CATEGORIES:SPORT
DTSTAMP:20260419T225632
END:VEVENT
BEGIN:VEVENT
CLASS:PUBLIC
DTSTART:20251025T180000Z
DURATION:PT2H30M
STATUS:CONFIRMED
SUMMARY:TFC Kassel 2 vs. Eintracht Frankfurt 2
DESCRIPTION:Landesliga Hessen (20. Spieltag)\nErgebnis: 6:14 (6:14)
LOCATION:Vereinsheim "Kicker-Arena" (Lüderhaus), Wiesenweg 14, 36137 Großenlüder
UID:SM-B6205@www.tfvh.de
PRIORITY:5
SEQUENCE:1
CATEGORIES:SPORT
DTSTAMP:20260419T225632
END:VEVENT
BEGIN:VEVENT
CLASS:PUBLIC
DTSTART:20251026T140000Z
DURATION:PT2H30M
STATUS:CONFIRMED
SUMMARY:ASC Göttingen 3 vs. TFC Kassel 3
DESCRIPTION:Verbandsliga Nord (9. Spieltag)\nErgebnis: 14:13 (14:13)
LOCATION:BezirksSportAnlage Maschpark, Schützenanger 1, 37081 Göttingen
UID:SM-B6455@www.tfvh.de
PRIORITY:5
SEQUENCE:1
CATEGORIES:SPORT
DTSTAMP:20260419T225632
END:VEVENT
BEGIN:VEVENT
CLASS:PUBLIC
DTSTART:20251102T140000Z
DURATION:PT2H30M
STATUS:CONFIRMED
SUMMARY:ASC Göttingen 2 vs. TFC Kassel 2
DESCRIPTION:Landesliga Hessen (21. Spieltag)\nErgebnis: 19:4 (19:4)
LOCATION:BezirksSportAnlage Maschpark, Schützenanger 1, 37081 Göttingen
UID:SM-B6209@www.tfvh.de
PRIORITY:5
SEQUENCE:1
CATEGORIES:SPORT
DTSTAMP:20260419T225632
END:VEVENT
BEGIN:VEVENT
CLASS:PUBLIC
DTSTART:20251116T140000Z
DURATION:PT2H30M
STATUS:CONFIRMED
SUMMARY:TFC Kassel 3 vs. TFC Knüllwald 1
DESCRIPTION:Verbandsliga Nord (10. Spieltag)\nErgebnis: 7:19 (7:19)
LOCATION:TFC Kassel, Sickingenstraße 33, 34117 Kassel
UID:SM-B6458@www.tfvh.de
PRIORITY:5
SEQUENCE:1
CATEGORIES:SPORT
DTSTAMP:20260419T225632
END:VEVENT
BEGIN:VEVENT
CLASS:PUBLIC
DTSTART:20260304T193000Z
DURATION:PT2H30M
STATUS:CONFIRMED
SUMMARY:TFC Kassel 2 vs. TFC Kassel 3
DESCRIPTION:Verbandsliga Nord (2. Spieltag)\nErgebnis: 12:12 (12:12)
LOCATION:TFC Kassel, Sickingenstraße 33, 34117 Kassel
UID:SM-B6731@www.tfvh.de
PRIORITY:5
SEQUENCE:1
CATEGORIES:SPORT
DTSTAMP:20260419T225632
END:VEVENT
BEGIN:VEVENT
CLASS:PUBLIC
DTSTART:20260315T140000Z
DURATION:PT2H30M
STATUS:CONFIRMED
SUMMARY:TFC Kassel 3 vs. Kicker Wölfe Wolfhagen 1
DESCRIPTION:Verbandsliga Nord (3. Spieltag)\nErgebnis: 3:19 (3:19)
LOCATION:TFC Kassel, Sickingenstraße 33, 34117 Kassel
UID:SM-B6738@www.tfvh.de
PRIORITY:5
SEQUENCE:1
CATEGORIES:SPORT
DTSTAMP:20260419T225632
END:VEVENT
BEGIN:VEVENT
CLASS:PUBLIC
DTSTART:20260318T180000Z
DURATION:PT2H30M
STATUS:CONFIRMED
SUMMARY:TFC Knüllwald 1 vs. TFC Kassel 2
DESCRIPTION:Verbandsliga Nord (3. Spieltag)\nErgebnis: 9:17 (9:17)
LOCATION:Knüllwald-Rengshausen, Zum Schwimmbad 2, 34593 Knüllwald
UID:SM-B6737@www.tfvh.de
PRIORITY:5
SEQUENCE:1
CATEGORIES:SPORT
DTSTAMP:20260419T225632
END:VEVENT
BEGIN:VEVENT
CLASS:PUBLIC
DTSTART:20260329T140000Z
DURATION:PT2H30M
STATUS:CONFIRMED
SUMMARY:ASC Göttingen 2 vs. TFC Kassel 3
DESCRIPTION:Verbandsliga Nord (4. Spieltag)\nErgebnis: 20:0 (20:0)
LOCATION:BezirksSportAnlage Maschpark, Schützenanger 1, 37081 Göttingen
UID:SM-B6740@www.tfvh.de
PRIORITY:5
SEQUENCE:1
CATEGORIES:SPORT
DTSTAMP:20260419T225632
END:VEVENT
BEGIN:VEVENT
CLASS:PUBLIC
DTSTART:20260329T140000Z
DURATION:PT2H30M
STATUS:CONFIRMED
SUMMARY:TFC Kassel 2 vs. Kicker Wölfe Wolfhagen 1
DESCRIPTION:Verbandsliga Nord (4. Spieltag)\nErgebnis: 13:10 (13:10)
LOCATION:TFC Kassel, Sickingenstraße 33, 34117 Kassel
UID:SM-B6739@www.tfvh.de
PRIORITY:5
SEQUENCE:1
CATEGORIES:SPORT
DTSTAMP:20260419T225632
END:VEVENT
BEGIN:VEVENT
CLASS:PUBLIC
DTSTART:20260419T140000Z
DURATION:PT2H30M
STATUS:CONFIRMED
SUMMARY:ASC Göttingen 3 vs. TFC Kassel 2
DESCRIPTION:Verbandsliga Nord (5. Spieltag)\nErgebnis: 8:19 (8:19)
LOCATION:BezirksSportAnlage Maschpark, Schützenanger 1, 37081 Göttingen
UID:SM-B6744@www.tfvh.de
PRIORITY:5
SEQUENCE:1
CATEGORIES:SPORT
DTSTAMP:20260419T225632
END:VEVENT
BEGIN:VEVENT
CLASS:PUBLIC
DTSTART:20260426T140000Z
DURATION:PT2H30M
STATUS:CONFIRMED
SUMMARY:TFC Kassel 2 vs. ASC Göttingen 2
DESCRIPTION:Verbandsliga Nord (6. Spieltag)
LOCATION:TFC Kassel, Sickingenstraße 33, 34117 Kassel
UID:SM-B6747@www.tfvh.de
PRIORITY:5
SEQUENCE:0
CATEGORIES:SPORT
DTSTAMP:20260419T225632
END:VEVENT
BEGIN:VEVENT
CLASS:PUBLIC
DTSTART:20260426T140000Z
DURATION:PT2H30M
STATUS:TENTATIVE
SUMMARY:TFC Knüllwald 1 vs. TFC Kassel 3 (wird verlegt)
DESCRIPTION:Verbandsliga Nord (6. Spieltag)
LOCATION:Knüllwald-Rengshausen, Zum Schwimmbad 2, 34593 Knüllwald
UID:SM-B6749@www.tfvh.de
PRIORITY:5
SEQUENCE:0
CATEGORIES:SPORT
DTSTAMP:20260419T225632
END:VEVENT
BEGIN:VEVENT
CLASS:PUBLIC
DTSTART:20260503T140000Z
DURATION:PT2H30M
STATUS:CONFIRMED
SUMMARY:TFC Kassel 3 vs. TFC Hollenstedt 1
DESCRIPTION:Verbandsliga Nord (5. Spieltag)
LOCATION:TFC Kassel, Sickingenstraße 33, 34117 Kassel
UID:SM-B6746@www.tfvh.de
PRIORITY:5
SEQUENCE:0
CATEGORIES:SPORT
DTSTAMP:20260419T225632
END:VEVENT
BEGIN:VEVENT
CLASS:PUBLIC
DTSTART:20260510T140000Z
DURATION:PT2H30M
STATUS:CONFIRMED
SUMMARY:TFC Kassel 2 vs. OHK Großenlüder 3
DESCRIPTION:Verbandsliga Nord (7. Spieltag)
LOCATION:TFC Kassel, Sickingenstraße 33, 34117 Kassel
UID:SM-B6751@www.tfvh.de
PRIORITY:5
SEQUENCE:0
CATEGORIES:SPORT
DTSTAMP:20260419T225632
END:VEVENT
BEGIN:VEVENT
CLASS:PUBLIC
DTSTART:20260510T140000Z
DURATION:PT2H30M
STATUS:CONFIRMED
SUMMARY:TFC Kassel 3 vs. ASC Göttingen 3
DESCRIPTION:Verbandsliga Nord (7. Spieltag)
LOCATION:TFC Kassel, Sickingenstraße 33, 34117 Kassel
UID:SM-B6754@www.tfvh.de
PRIORITY:5
SEQUENCE:0
CATEGORIES:SPORT
DTSTAMP:20260419T225632
END:VEVENT
BEGIN:VEVENT
CLASS:PUBLIC
DTSTART:20260531T140000Z
DURATION:PT2H30M
STATUS:CONFIRMED
SUMMARY:OHK Großenlüder 3 vs. TFC Kassel 3
DESCRIPTION:Verbandsliga Nord (9. Spieltag)
LOCATION:Vereinsheim "Kicker-Arena" (Lüderhaus), Wiesenweg 14, 36137 Großenlüder
UID:SM-B6780@www.tfvh.de
PRIORITY:5
SEQUENCE:0
CATEGORIES:SPORT
DTSTAMP:20260419T225632
END:VEVENT
BEGIN:VEVENT
CLASS:PUBLIC
DTSTART:20260531T140000Z
DURATION:PT2H30M
STATUS:CONFIRMED
SUMMARY:TFC Hollenstedt 1 vs. TFC Kassel 2
DESCRIPTION:Verbandsliga Nord (9. Spieltag)
LOCATION:"Sporthaus-Hollenstedt" TSV Hollenstedt, Am Sportplatz, 37154 Northeim/Hollenstedt
UID:SM-B6781@www.tfvh.de
PRIORITY:5
SEQUENCE:0
CATEGORIES:SPORT
DTSTAMP:20260419T225632
END:VEVENT
BEGIN:VEVENT
CLASS:PUBLIC
DTSTART:20260628T140000Z
DURATION:PT2H30M
STATUS:CONFIRMED
SUMMARY:TFC Kassel 3 vs. TFC Kassel 2
DESCRIPTION:Verbandsliga Nord (10. Spieltag)
LOCATION:TFC Kassel, Sickingenstraße 33, 34117 Kassel
UID:SM-B6786@www.tfvh.de
PRIORITY:5
SEQUENCE:0
CATEGORIES:SPORT
DTSTAMP:20260419T225632
END:VEVENT
BEGIN:VEVENT
CLASS:PUBLIC
DTSTART:20260816T140000Z
DURATION:PT2H30M
STATUS:CONFIRMED
SUMMARY:Kicker Wölfe Wolfhagen 1 vs. TFC Kassel 3
DESCRIPTION:Verbandsliga Nord (11. Spieltag)
LOCATION:JUZ Jugendzentrum Wolfhagen, Kurfürstenstr. 22, 34466 Wolfhagen
UID:SM-B6789@www.tfvh.de
PRIORITY:5
SEQUENCE:0
CATEGORIES:SPORT
DTSTAMP:20260419T225632
END:VEVENT
BEGIN:VEVENT
CLASS:PUBLIC
DTSTART:20260816T140000Z
DURATION:PT2H30M
STATUS:CONFIRMED
SUMMARY:TFC Kassel 2 vs. TFC Knüllwald 1
DESCRIPTION:Verbandsliga Nord (11. Spieltag)
LOCATION:TFC Kassel, Sickingenstraße 33, 34117 Kassel
UID:SM-B6790@www.tfvh.de
PRIORITY:5
SEQUENCE:0
CATEGORIES:SPORT
DTSTAMP:20260419T225632
END:VEVENT
BEGIN:VEVENT
CLASS:PUBLIC
DTSTART:20260830T140000Z
DURATION:PT2H30M
STATUS:CONFIRMED
SUMMARY:Kicker Wölfe Wolfhagen 1 vs. TFC Kassel 2
DESCRIPTION:Verbandsliga Nord (12. Spieltag)
LOCATION:JUZ Jugendzentrum Wolfhagen, Kurfürstenstr. 22, 34466 Wolfhagen
UID:SM-B6793@www.tfvh.de
PRIORITY:5
SEQUENCE:0
CATEGORIES:SPORT
DTSTAMP:20260419T225632
END:VEVENT
BEGIN:VEVENT
CLASS:PUBLIC
DTSTART:20260830T140000Z
DURATION:PT2H30M
STATUS:CONFIRMED
SUMMARY:TFC Kassel 3 vs. ASC Göttingen 2
DESCRIPTION:Verbandsliga Nord (12. Spieltag)
LOCATION:TFC Kassel, Sickingenstraße 33, 34117 Kassel
UID:SM-B6791@www.tfvh.de
PRIORITY:5
SEQUENCE:0
CATEGORIES:SPORT
DTSTAMP:20260419T225632
END:VEVENT
BEGIN:VEVENT
CLASS:PUBLIC
DTSTART:20260913T140000Z
DURATION:PT2H30M
STATUS:CONFIRMED
SUMMARY:TFC Hollenstedt 1 vs. TFC Kassel 3
DESCRIPTION:Verbandsliga Nord (13. Spieltag)
LOCATION:"Sporthaus-Hollenstedt" TSV Hollenstedt, Am Sportplatz, 37154 Northeim/Hollenstedt
UID:SM-B6798@www.tfvh.de
PRIORITY:5
SEQUENCE:0
CATEGORIES:SPORT
DTSTAMP:20260419T225632
END:VEVENT
BEGIN:VEVENT
CLASS:PUBLIC
DTSTART:20260913T140000Z
DURATION:PT2H30M
STATUS:CONFIRMED
SUMMARY:TFC Kassel 2 vs. ASC Göttingen 3
DESCRIPTION:Verbandsliga Nord (13. Spieltag)
LOCATION:TFC Kassel, Sickingenstraße 33, 34117 Kassel
UID:SM-B6795@www.tfvh.de
PRIORITY:5
SEQUENCE:0
CATEGORIES:SPORT
DTSTAMP:20260419T225632
END:VEVENT
BEGIN:VEVENT
CLASS:PUBLIC
DTSTART:20261004T140000Z
DURATION:PT2H30M
STATUS:CONFIRMED
SUMMARY:ASC Göttingen 2 vs. TFC Kassel 2
DESCRIPTION:Verbandsliga Nord (15. Spieltag)
LOCATION:BezirksSportAnlage Maschpark, Schützenanger 1, 37081 Göttingen
UID:SM-B6801@www.tfvh.de
PRIORITY:5
SEQUENCE:0
CATEGORIES:SPORT
DTSTAMP:20260419T225632
END:VEVENT
BEGIN:VEVENT
CLASS:PUBLIC
DTSTART:20261004T140000Z
DURATION:PT2H30M
STATUS:CONFIRMED
SUMMARY:TFC Kassel 3 vs. TFC Knüllwald 1
DESCRIPTION:Verbandsliga Nord (15. Spieltag)
LOCATION:TFC Kassel, Sickingenstraße 33, 34117 Kassel
UID:SM-B6802@www.tfvh.de
PRIORITY:5
SEQUENCE:0
CATEGORIES:SPORT
DTSTAMP:20260419T225632
END:VEVENT
BEGIN:VEVENT
CLASS:PUBLIC
DTSTART:20261108T140000Z
DURATION:PT2H30M
STATUS:CONFIRMED
SUMMARY:ASC Göttingen 3 vs. TFC Kassel 3
DESCRIPTION:Verbandsliga Nord (17. Spieltag)
LOCATION:BezirksSportAnlage Maschpark, Schützenanger 1, 37081 Göttingen
UID:SM-B6806@www.tfvh.de
PRIORITY:5
SEQUENCE:0
CATEGORIES:SPORT
DTSTAMP:20260419T225632
END:VEVENT
BEGIN:VEVENT
CLASS:PUBLIC
DTSTART:20261108T140000Z
DURATION:PT2H30M
STATUS:CONFIRMED
SUMMARY:OHK Großenlüder 3 vs. TFC Kassel 2
DESCRIPTION:Verbandsliga Nord (17. Spieltag)
LOCATION:Vereinsheim "Kicker-Arena" (Lüderhaus), Wiesenweg 14, 36137 Großenlüder
UID:SM-B6805@www.tfvh.de
PRIORITY:5
SEQUENCE:0
CATEGORIES:SPORT
DTSTAMP:20260419T225632
END:VEVENT
BEGIN:VEVENT
CLASS:PUBLIC
DTSTART:20261115T140000Z
DURATION:PT2H30M
STATUS:CONFIRMED
SUMMARY:TFC Kassel 2 vs. TFC Hollenstedt 1
DESCRIPTION:Verbandsliga Nord (18. Spieltag)
LOCATION:TFC Kassel, Sickingenstraße 33, 34117 Kassel
UID:SM-B6809@www.tfvh.de
PRIORITY:5
SEQUENCE:0
CATEGORIES:SPORT
DTSTAMP:20260419T225632
END:VEVENT
BEGIN:VEVENT
CLASS:PUBLIC
DTSTART:20261115T140000Z
DURATION:PT2H30M
STATUS:CONFIRMED
SUMMARY:TFC Kassel 3 vs. OHK Großenlüder 3
DESCRIPTION:Verbandsliga Nord (18. Spieltag)
LOCATION:TFC Kassel, Sickingenstraße 33, 34117 Kassel
UID:SM-B6808@www.tfvh.de
PRIORITY:5
SEQUENCE:0
CATEGORIES:SPORT
DTSTAMP:20260419T225632
END:VEVENT
END:VCALENDAR
