BEGIN:VCALENDAR
VERSION:2.0
PRODID:PHP
METHOD:REQUEST
X-ORIGINAL-URL:http://www.tfvh.de/index.php/vereine-2?task=verein_begegnungen_ical&id=51
X-WR-CALNAME;VALUE=TEXT:Osthessenkicker 06 e.V.
BEGIN:VEVENT
CLASS:PUBLIC
DTSTART:20250427T140000Z
DURATION:PT2H30M
STATUS:CONFIRMED
SUMMARY:TFC Kassel 2 vs. OHK Großenlüder 2
DESCRIPTION:Landesliga Hessen (6. Spieltag)\nErgebnis: 4:18 (4:18)
LOCATION:TFC Kassel, Sickingenstraße 33, 34117 Kassel
UID:SM-B6160@www.tfvh.de
PRIORITY:5
SEQUENCE:1
CATEGORIES:SPORT
DTSTAMP:20260419T225632
END:VEVENT
BEGIN:VEVENT
CLASS:PUBLIC
DTSTART:20250503T110000Z
DURATION:PT2H30M
STATUS:CONFIRMED
SUMMARY:OHK Großenlüder 2 vs. TSC Fränkisch-Crumbach 2
DESCRIPTION:Landesliga Hessen (7. Spieltag)\nErgebnis: 10:17 (10:17)
LOCATION:Vereinsheim "Kicker-Arena" (Lüderhaus), Wiesenweg 14, 36137 Großenlüder
UID:SM-B6163@www.tfvh.de
PRIORITY:5
SEQUENCE:1
CATEGORIES:SPORT
DTSTAMP:20260419T225632
END:VEVENT
BEGIN:VEVENT
CLASS:PUBLIC
DTSTART:20250503T143000Z
DURATION:PT2H30M
STATUS:CONFIRMED
SUMMARY:OHK Großenlüder 2 vs. Eintracht Frankfurt 2
DESCRIPTION:Landesliga Hessen (8. Spieltag)\nErgebnis: 11:13 (11:13)
LOCATION:Vereinsheim "Kicker-Arena" (Lüderhaus), Wiesenweg 14, 36137 Großenlüder
UID:SM-B6165@www.tfvh.de
PRIORITY:5
SEQUENCE:1
CATEGORIES:SPORT
DTSTAMP:20260419T225632
END:VEVENT
BEGIN:VEVENT
CLASS:PUBLIC
DTSTART:20250503T180000Z
DURATION:PT2H30M
STATUS:CONFIRMED
SUMMARY:Rot-Weiß Darmstadt 2 vs. OHK Großenlüder 2
DESCRIPTION:Landesliga Hessen (9. Spieltag)\nErgebnis: 13:10 (13:10)
LOCATION:Vereinsheim "Kicker-Arena" (Lüderhaus), Wiesenweg 14, 36137 Großenlüder
UID:SM-B6168@www.tfvh.de
PRIORITY:5
SEQUENCE:1
CATEGORIES:SPORT
DTSTAMP:20260419T225632
END:VEVENT
BEGIN:VEVENT
CLASS:PUBLIC
DTSTART:20250504T140000Z
DURATION:PT2H30M
STATUS:CONFIRMED
SUMMARY:OHK Großenlüder 3 vs. ASC Göttingen 3
DESCRIPTION:Verbandsliga Nord (2. Spieltag)\nErgebnis: 13:11 (13:11)
LOCATION:Vereinsheim "Kicker-Arena" (Lüderhaus), Wiesenweg 14, 36137 Großenlüder
UID:SM-B6432@www.tfvh.de
PRIORITY:5
SEQUENCE:1
CATEGORIES:SPORT
DTSTAMP:20260419T225632
END:VEVENT
BEGIN:VEVENT
CLASS:PUBLIC
DTSTART:20250518T140000Z
DURATION:PT2H30M
STATUS:CONFIRMED
SUMMARY:TFC Knüllwald 1 vs. OHK Großenlüder 3
DESCRIPTION:Verbandsliga Nord (3. Spieltag)\nErgebnis: 14:8 (14:8)
LOCATION:Knüllwald-Rengshausen, Zum Schwimmbad 2, 34593 Knüllwald
UID:SM-B6436@www.tfvh.de
PRIORITY:5
SEQUENCE:1
CATEGORIES:SPORT
DTSTAMP:20260419T225632
END:VEVENT
BEGIN:VEVENT
CLASS:PUBLIC
DTSTART:20250601T140000Z
DURATION:PT2H30M
STATUS:CONFIRMED
SUMMARY:Kicker Wölfe Wolfhagen 1 vs. OHK Großenlüder 3
DESCRIPTION:Verbandsliga Nord (4. Spieltag)\nErgebnis: 15:10 (15:10)
LOCATION:JUZ Jugendzentrum Wolfhagen, Kurfürstenstr. 22, 34466 Wolfhagen
UID:SM-B6438@www.tfvh.de
PRIORITY:5
SEQUENCE:1
CATEGORIES:SPORT
DTSTAMP:20260419T225632
END:VEVENT
BEGIN:VEVENT
CLASS:PUBLIC
DTSTART:20250629T140000Z
DURATION:PT2H30M
STATUS:CONFIRMED
SUMMARY:ASC Göttingen 2 vs. OHK Großenlüder 2
DESCRIPTION:Landesliga Hessen (13. Spieltag)\nErgebnis: 20:0 (20:0)
LOCATION:BezirksSportAnlage Maschpark, Schützenanger 1, 37081 Göttingen
UID:SM-B6183@www.tfvh.de
PRIORITY:5
SEQUENCE:1
CATEGORIES:SPORT
DTSTAMP:20260419T225632
END:VEVENT
BEGIN:VEVENT
CLASS:PUBLIC
DTSTART:20250629T140000Z
DURATION:PT2H30M
STATUS:CONFIRMED
SUMMARY:OHK Großenlüder 3 vs. TFC Hollenstedt 1
DESCRIPTION:Verbandsliga Nord (5. Spieltag)\nErgebnis: 5:18 (5:18)
LOCATION:Vereinsheim "Kicker-Arena" (Lüderhaus), Wiesenweg 14, 36137 Großenlüder
UID:SM-B6441@www.tfvh.de
PRIORITY:5
SEQUENCE:1
CATEGORIES:SPORT
DTSTAMP:20260419T225632
END:VEVENT
BEGIN:VEVENT
CLASS:PUBLIC
DTSTART:20250823T110000Z
DURATION:PT2H30M
STATUS:CONFIRMED
SUMMARY:OHK Großenlüder 2 vs. Eintracht Frankfurt 3
DESCRIPTION:Landesliga Hessen (14. Spieltag)\nErgebnis: 15:12 (15:12)
LOCATION:Vereinsheim TFC Staufenberg (Stadthalle), Porstendorfer Str. 2, 35460 Staufenberg
UID:SM-B6184@www.tfvh.de
PRIORITY:5
SEQUENCE:1
CATEGORIES:SPORT
DTSTAMP:20260419T225632
END:VEVENT
BEGIN:VEVENT
CLASS:PUBLIC
DTSTART:20250823T143000Z
DURATION:PT2H30M
STATUS:CONFIRMED
SUMMARY:Kong Foos Darmstadt 3 vs. OHK Großenlüder 2
DESCRIPTION:Landesliga Hessen (15. Spieltag)\nErgebnis: 8:17 (8:17)
LOCATION:Vereinsheim TFC Staufenberg (Stadthalle), Porstendorfer Str. 2, 35460 Staufenberg
UID:SM-B6188@www.tfvh.de
PRIORITY:5
SEQUENCE:1
CATEGORIES:SPORT
DTSTAMP:20260419T225632
END:VEVENT
BEGIN:VEVENT
CLASS:PUBLIC
DTSTART:20250823T180000Z
DURATION:PT2H30M
STATUS:CONFIRMED
SUMMARY:TSC Fränkisch-Crumbach 2 vs. OHK Großenlüder 2
DESCRIPTION:Landesliga Hessen (16. Spieltag)\nErgebnis: 15:6 (15:6)
LOCATION:Vereinsheim TFC Staufenberg (Stadthalle), Porstendorfer Str. 2, 35460 Staufenberg
UID:SM-B6191@www.tfvh.de
PRIORITY:5
SEQUENCE:1
CATEGORIES:SPORT
DTSTAMP:20260419T225632
END:VEVENT
BEGIN:VEVENT
CLASS:PUBLIC
DTSTART:20250907T140000Z
DURATION:PT2H30M
STATUS:CONFIRMED
SUMMARY:OHK Großenlüder 3 vs. OHK Großenlüder 2
DESCRIPTION:Pokalrunde Nord (Achtelfinale)\nErgebnis: 0:20 (0:20)
LOCATION:Vereinsheim "Kicker-Arena" (Lüderhaus), Wiesenweg 14, 36137 Großenlüder
UID:SM-B6289@www.tfvh.de
PRIORITY:5
SEQUENCE:1
CATEGORIES:SPORT
DTSTAMP:20260419T225632
END:VEVENT
BEGIN:VEVENT
CLASS:PUBLIC
DTSTART:20250907T140000Z
DURATION:PT2H30M
STATUS:CONFIRMED
SUMMARY:OHK Großenlüder 3 vs. TFC Kassel 3
DESCRIPTION:Verbandsliga Nord (6. Spieltag)\nErgebnis: 15:12 (15:12)
LOCATION:Vereinsheim "Kicker-Arena" (Lüderhaus), Wiesenweg 14, 36137 Großenlüder
UID:SM-B6446@www.tfvh.de
PRIORITY:5
SEQUENCE:1
CATEGORIES:SPORT
DTSTAMP:20260419T225632
END:VEVENT
BEGIN:VEVENT
CLASS:PUBLIC
DTSTART:20250914T140000Z
DURATION:PT2H30M
STATUS:CONFIRMED
SUMMARY:ASC Göttingen 3 vs. OHK Großenlüder 3
DESCRIPTION:Verbandsliga Nord (7. Spieltag)\nErgebnis: 10:14 (10:14)
LOCATION:BezirksSportAnlage Maschpark, Schützenanger 1, 37081 Göttingen
UID:SM-B6447@www.tfvh.de
PRIORITY:5
SEQUENCE:1
CATEGORIES:SPORT
DTSTAMP:20260419T225632
END:VEVENT
BEGIN:VEVENT
CLASS:PUBLIC
DTSTART:20250914T140000Z
DURATION:PT2H30M
STATUS:CONFIRMED
SUMMARY:OHK Großenlüder 2 vs. TFC Kassel 2
DESCRIPTION:Landesliga Hessen (17. Spieltag)\nErgebnis: 9:14 (9:14)
LOCATION:Vereinsheim "Kicker-Arena" (Lüderhaus), Wiesenweg 14, 36137 Großenlüder
UID:SM-B6196@www.tfvh.de
PRIORITY:5
SEQUENCE:1
CATEGORIES:SPORT
DTSTAMP:20260419T225632
END:VEVENT
BEGIN:VEVENT
CLASS:PUBLIC
DTSTART:20251012T140000Z
DURATION:PT2H30M
STATUS:CONFIRMED
SUMMARY:OHK Großenlüder 3 vs. TFC Knüllwald 1
DESCRIPTION:Verbandsliga Nord (8. Spieltag)\nErgebnis: 12:14 (12:14)
LOCATION:Vereinsheim "Kicker-Arena" (Lüderhaus), Wiesenweg 14, 36137 Großenlüder
UID:SM-B6452@www.tfvh.de
PRIORITY:5
SEQUENCE:1
CATEGORIES:SPORT
DTSTAMP:20260419T225632
END:VEVENT
BEGIN:VEVENT
CLASS:PUBLIC
DTSTART:20251025T110000Z
DURATION:PT2H30M
STATUS:CONFIRMED
SUMMARY:OHK Großenlüder 2 vs. TFC Staufenberg 2
DESCRIPTION:Landesliga Hessen (18. Spieltag)\nErgebnis: 6:18 (6:18)
LOCATION:Vereinsheim "Kicker-Arena" (Lüderhaus), Wiesenweg 14, 36137 Großenlüder
UID:SM-B6199@www.tfvh.de
PRIORITY:5
SEQUENCE:1
CATEGORIES:SPORT
DTSTAMP:20260419T225632
END:VEVENT
BEGIN:VEVENT
CLASS:PUBLIC
DTSTART:20251025T143000Z
DURATION:PT2H30M
STATUS:CONFIRMED
SUMMARY:Eintracht Frankfurt 2 vs. OHK Großenlüder 2
DESCRIPTION:Landesliga Hessen (19. Spieltag)\nErgebnis: 17:8 (17:8)
LOCATION:Vereinsheim "Kicker-Arena" (Lüderhaus), Wiesenweg 14, 36137 Großenlüder
UID:SM-B6201@www.tfvh.de
PRIORITY:5
SEQUENCE:1
CATEGORIES:SPORT
DTSTAMP:20260419T225632
END:VEVENT
BEGIN:VEVENT
CLASS:PUBLIC
DTSTART:20251025T180000Z
DURATION:PT2H30M
STATUS:CONFIRMED
SUMMARY:OHK Großenlüder 2 vs. Rot-Weiß Darmstadt 2
DESCRIPTION:Landesliga Hessen (20. Spieltag)\nErgebnis: 9:15 (9:15)
LOCATION:Vereinsheim "Kicker-Arena" (Lüderhaus), Wiesenweg 14, 36137 Großenlüder
UID:SM-B6204@www.tfvh.de
PRIORITY:5
SEQUENCE:1
CATEGORIES:SPORT
DTSTAMP:20260419T225632
END:VEVENT
BEGIN:VEVENT
CLASS:PUBLIC
DTSTART:20251026T140000Z
DURATION:PT2H30M
STATUS:CONFIRMED
SUMMARY:OHK Großenlüder 3 vs. Kicker Wölfe Wolfhagen 1
DESCRIPTION:Verbandsliga Nord (9. Spieltag)\nErgebnis: 6:19 (6:19)
LOCATION:Vereinsheim "Kicker-Arena" (Lüderhaus), Wiesenweg 14, 36137 Großenlüder
UID:SM-B6453@www.tfvh.de
PRIORITY:5
SEQUENCE:1
CATEGORIES:SPORT
DTSTAMP:20260419T225632
END:VEVENT
BEGIN:VEVENT
CLASS:PUBLIC
DTSTART:20251109T140000Z
DURATION:PT2H30M
STATUS:CONFIRMED
SUMMARY:Kicker Wölfe Wolfhagen 1 vs. OHK Großenlüder 2
DESCRIPTION:Pokalrunde Nord (Viertelfinale)\nErgebnis: 1:12 (1:12)
LOCATION:JUZ Jugendzentrum Wolfhagen, Kurfürstenstr. 22, 34466 Wolfhagen
UID:SM-B6470@www.tfvh.de
PRIORITY:5
SEQUENCE:1
CATEGORIES:SPORT
DTSTAMP:20260419T225632
END:VEVENT
BEGIN:VEVENT
CLASS:PUBLIC
DTSTART:20251116T140000Z
DURATION:PT2H30M
STATUS:CONFIRMED
SUMMARY:TFC Hollenstedt 1 vs. OHK Großenlüder 3
DESCRIPTION:Verbandsliga Nord (10. Spieltag)\nErgebnis: 17:6 (17:6)
LOCATION:"Sporthaus-Hollenstedt" TSV Hollenstedt, Am Sportplatz, 37154 Northeim/Hollenstedt
UID:SM-B6457@www.tfvh.de
PRIORITY:5
SEQUENCE:1
CATEGORIES:SPORT
DTSTAMP:20260419T225632
END:VEVENT
BEGIN:VEVENT
CLASS:PUBLIC
DTSTART:20251122T130000Z
DURATION:PT2H30M
STATUS:CONFIRMED
SUMMARY:OHK Großenlüder 2 vs. Rot-Weiß Darmstadt 2
DESCRIPTION:Pokal Endrunde (Final Four) (Halbfinale)\nErgebnis: 10:14 (10:14)
LOCATION:Vereinsheim TFC Staufenberg (Stadthalle), Porstendorfer Str. 2, 35460 Staufenberg
UID:SM-B6294@www.tfvh.de
PRIORITY:5
SEQUENCE:1
CATEGORIES:SPORT
DTSTAMP:20260419T225632
END:VEVENT
BEGIN:VEVENT
CLASS:PUBLIC
DTSTART:20251122T170000Z
DURATION:PT2H30M
STATUS:CONFIRMED
SUMMARY:ASC Göttingen 2 vs. OHK Großenlüder 2
DESCRIPTION:Pokal Endrunde (Final Four) (Platz 3)\nErgebnis: 13:14 (13:14)
LOCATION:Vereinsheim TFC Staufenberg (Stadthalle), Porstendorfer Str. 2, 35460 Staufenberg
UID:SM-B6295@www.tfvh.de
PRIORITY:5
SEQUENCE:1
CATEGORIES:SPORT
DTSTAMP:20260419T225632
END:VEVENT
BEGIN:VEVENT
CLASS:PUBLIC
DTSTART:20260227T200000Z
DURATION:PT2H30M
STATUS:CONFIRMED
SUMMARY:OHK Großenlüder 2 vs. TSC Fränkisch-Crumbach 2
DESCRIPTION:Landesliga Hessen (2. Spieltag)\nErgebnis: 9:17 (9:17)
LOCATION:Vereinsheim "Kicker-Arena" (Lüderhaus), Wiesenweg 14, 36137 Großenlüder
UID:SM-B6486@www.tfvh.de
PRIORITY:5
SEQUENCE:1
CATEGORIES:SPORT
DTSTAMP:20260419T225632
END:VEVENT
BEGIN:VEVENT
CLASS:PUBLIC
DTSTART:20260301T140000Z
DURATION:PT2H30M
STATUS:CONFIRMED
SUMMARY:Kicker Wölfe Wolfhagen 1 vs. OHK Großenlüder 3
DESCRIPTION:Verbandsliga Nord (2. Spieltag)\nErgebnis: 20:2 (20:2)
LOCATION:JUZ Jugendzentrum Wolfhagen, Kurfürstenstr. 22, 34466 Wolfhagen
UID:SM-B6733@www.tfvh.de
PRIORITY:5
SEQUENCE:1
CATEGORIES:SPORT
DTSTAMP:20260419T225632
END:VEVENT
BEGIN:VEVENT
CLASS:PUBLIC
DTSTART:20260306T200000Z
DURATION:PT2H30M
STATUS:CONFIRMED
SUMMARY:TFC Staufenberg 2 vs. OHK Großenlüder 2
DESCRIPTION:Landesliga Hessen (1. Spieltag)\nErgebnis: 17:10 (17:10)
LOCATION:Vereinsheim TFC Staufenberg (Stadthalle), Porstendorfer Str. 2, 35460 Staufenberg
UID:SM-B6478@www.tfvh.de
PRIORITY:5
SEQUENCE:1
CATEGORIES:SPORT
DTSTAMP:20260419T225632
END:VEVENT
BEGIN:VEVENT
CLASS:PUBLIC
DTSTART:20260315T140000Z
DURATION:PT2H30M
STATUS:CONFIRMED
SUMMARY:OHK Großenlüder 3 vs. ASC Göttingen 2
DESCRIPTION:Verbandsliga Nord (3. Spieltag)\nErgebnis: 6:19 (6:19)
LOCATION:Vereinsheim "Kicker-Arena" (Lüderhaus), Wiesenweg 14, 36137 Großenlüder
UID:SM-B6735@www.tfvh.de
PRIORITY:5
SEQUENCE:1
CATEGORIES:SPORT
DTSTAMP:20260419T225632
END:VEVENT
BEGIN:VEVENT
CLASS:PUBLIC
DTSTART:20260329T140000Z
DURATION:PT2H30M
STATUS:CONFIRMED
SUMMARY:TFC Hollenstedt 1 vs. OHK Großenlüder 3
DESCRIPTION:Verbandsliga Nord (4. Spieltag)\nErgebnis: 20:0 (20:0)
LOCATION:"Sporthaus-Hollenstedt" TSV Hollenstedt, Am Sportplatz, 37154 Northeim/Hollenstedt
UID:SM-B6742@www.tfvh.de
PRIORITY:5
SEQUENCE:1
CATEGORIES:SPORT
DTSTAMP:20260419T225632
END:VEVENT
BEGIN:VEVENT
CLASS:PUBLIC
DTSTART:20260410T200000Z
DURATION:PT2H30M
STATUS:CONFIRMED
SUMMARY:SV Wehen Wiesbaden 1 vs. OHK Großenlüder 2
DESCRIPTION:Landesliga Hessen (4. Spieltag)\nErgebnis: 16:8 (16:8)
LOCATION:BRITA-Arena Stadion in Wiesbaden, Berliner Str. 9, 65189 Wiesbaden
UID:SM-B6492@www.tfvh.de
PRIORITY:5
SEQUENCE:1
CATEGORIES:SPORT
DTSTAMP:20260419T225632
END:VEVENT
BEGIN:VEVENT
CLASS:PUBLIC
DTSTART:20260419T140000Z
DURATION:PT2H30M
STATUS:CONFIRMED
SUMMARY:OHK Großenlüder 3 vs. TFC Knüllwald 1
DESCRIPTION:Verbandsliga Nord (5. Spieltag)\nErgebnis: 14:9 (14:9)
LOCATION:Vereinsheim "Kicker-Arena" (Lüderhaus), Wiesenweg 14, 36137 Großenlüder
UID:SM-B6743@www.tfvh.de
PRIORITY:5
SEQUENCE:1
CATEGORIES:SPORT
DTSTAMP:20260419T225632
END:VEVENT
BEGIN:VEVENT
CLASS:PUBLIC
DTSTART:20260426T140000Z
DURATION:PT2H30M
STATUS:CONFIRMED
SUMMARY:ASC Göttingen 3 vs. OHK Großenlüder 3
DESCRIPTION:Verbandsliga Nord (6. Spieltag)
LOCATION:BezirksSportAnlage Maschpark, Schützenanger 1, 37081 Göttingen
UID:SM-B6748@www.tfvh.de
PRIORITY:5
SEQUENCE:0
CATEGORIES:SPORT
DTSTAMP:20260419T225632
END:VEVENT
BEGIN:VEVENT
CLASS:PUBLIC
DTSTART:20260503T140000Z
DURATION:PT2H30M
STATUS:CONFIRMED
SUMMARY:OHK Großenlüder 2 vs. Eintracht Frankfurt 2
DESCRIPTION:Landesliga Hessen (5. Spieltag)
LOCATION:Vereinsheim "Kicker-Arena" (Lüderhaus), Wiesenweg 14, 36137 Großenlüder
UID:SM-B6495@www.tfvh.de
PRIORITY:5
SEQUENCE:0
CATEGORIES:SPORT
DTSTAMP:20260419T225632
END:VEVENT
BEGIN:VEVENT
CLASS:PUBLIC
DTSTART:20260508T200000Z
DURATION:PT2H30M
STATUS:CONFIRMED
SUMMARY:Eintracht Frankfurt 3 vs. OHK Großenlüder 2
DESCRIPTION:Landesliga Hessen (7. Spieltag)
LOCATION:Niddahalle Eintracht Frankfurt, Oeserstraße 74, 65934 Frankfurt am Main
UID:SM-B6504@www.tfvh.de
PRIORITY:5
SEQUENCE:0
CATEGORIES:SPORT
DTSTAMP:20260419T225632
END:VEVENT
BEGIN:VEVENT
CLASS:PUBLIC
DTSTART:20260510T140000Z
DURATION:PT2H30M
STATUS:CONFIRMED
SUMMARY:TFC Kassel 2 vs. OHK Großenlüder 3
DESCRIPTION:Verbandsliga Nord (7. Spieltag)
LOCATION:TFC Kassel, Sickingenstraße 33, 34117 Kassel
UID:SM-B6751@www.tfvh.de
PRIORITY:5
SEQUENCE:0
CATEGORIES:SPORT
DTSTAMP:20260419T225632
END:VEVENT
BEGIN:VEVENT
CLASS:PUBLIC
DTSTART:20260522T200000Z
DURATION:PT2H30M
STATUS:CONFIRMED
SUMMARY:OHK Großenlüder 2 vs. Rot-Weiß Radheim 1
DESCRIPTION:Landesliga Hessen (8. Spieltag)
LOCATION:Vereinsheim "Kicker-Arena" (Lüderhaus), Wiesenweg 14, 36137 Großenlüder
UID:SM-B6509@www.tfvh.de
PRIORITY:5
SEQUENCE:0
CATEGORIES:SPORT
DTSTAMP:20260419T225632
END:VEVENT
BEGIN:VEVENT
CLASS:PUBLIC
DTSTART:20260529T200000Z
DURATION:PT2H30M
STATUS:CONFIRMED
SUMMARY:Rot-Weiß Darmstadt 2 vs. OHK Großenlüder 2
DESCRIPTION:Landesliga Hessen (9. Spieltag)
LOCATION:SKV Rot-Weiß Darmstadt, Winkelschneise 9, 64295 Darmstadt
UID:SM-B6511@www.tfvh.de
PRIORITY:5
SEQUENCE:0
CATEGORIES:SPORT
DTSTAMP:20260419T225632
END:VEVENT
BEGIN:VEVENT
CLASS:PUBLIC
DTSTART:20260531T140000Z
DURATION:PT2H30M
STATUS:CONFIRMED
SUMMARY:OHK Großenlüder 2 vs. Ruderclub Darmstadt 3
DESCRIPTION:Landesliga Hessen (3. Spieltag)
LOCATION:Vereinsheim "Kicker-Arena" (Lüderhaus), Wiesenweg 14, 36137 Großenlüder
UID:SM-B6489@www.tfvh.de
PRIORITY:5
SEQUENCE:0
CATEGORIES:SPORT
DTSTAMP:20260419T225632
END:VEVENT
BEGIN:VEVENT
CLASS:PUBLIC
DTSTART:20260531T140000Z
DURATION:PT2H30M
STATUS:CONFIRMED
SUMMARY:OHK Großenlüder 3 vs. TFC Kassel 3
DESCRIPTION:Verbandsliga Nord (9. Spieltag)
LOCATION:Vereinsheim "Kicker-Arena" (Lüderhaus), Wiesenweg 14, 36137 Großenlüder
UID:SM-B6780@www.tfvh.de
PRIORITY:5
SEQUENCE:0
CATEGORIES:SPORT
DTSTAMP:20260419T225632
END:VEVENT
BEGIN:VEVENT
CLASS:PUBLIC
DTSTART:20260619T200000Z
DURATION:PT2H30M
STATUS:CONFIRMED
SUMMARY:OHK Großenlüder 2 vs. TFC Staufenberg 2
DESCRIPTION:Landesliga Hessen (10. Spieltag)
LOCATION:Vereinsheim "Kicker-Arena" (Lüderhaus), Wiesenweg 14, 36137 Großenlüder
UID:SM-B6518@www.tfvh.de
PRIORITY:5
SEQUENCE:0
CATEGORIES:SPORT
DTSTAMP:20260419T225632
END:VEVENT
BEGIN:VEVENT
CLASS:PUBLIC
DTSTART:20260628T140000Z
DURATION:PT2H30M
STATUS:CONFIRMED
SUMMARY:OHK Großenlüder 3 vs. Kicker Wölfe Wolfhagen 1
DESCRIPTION:Verbandsliga Nord (10. Spieltag)
LOCATION:Vereinsheim "Kicker-Arena" (Lüderhaus), Wiesenweg 14, 36137 Großenlüder
UID:SM-B6784@www.tfvh.de
PRIORITY:5
SEQUENCE:0
CATEGORIES:SPORT
DTSTAMP:20260419T225632
END:VEVENT
BEGIN:VEVENT
CLASS:PUBLIC
DTSTART:20260814T200000Z
DURATION:PT2H30M
STATUS:CONFIRMED
SUMMARY:TSC Fränkisch-Crumbach 2 vs. OHK Großenlüder 2
DESCRIPTION:Landesliga Hessen (11. Spieltag)
LOCATION:Vereinsheim TSC Fr.Crumb. Schützenverein, Bahnhofstraße 58, 64407 Fränkisch - Crumbach
UID:SM-B6520@www.tfvh.de
PRIORITY:5
SEQUENCE:0
CATEGORIES:SPORT
DTSTAMP:20260419T225632
END:VEVENT
BEGIN:VEVENT
CLASS:PUBLIC
DTSTART:20260816T140000Z
DURATION:PT2H30M
STATUS:CONFIRMED
SUMMARY:ASC Göttingen 2 vs. OHK Großenlüder 3
DESCRIPTION:Verbandsliga Nord (11. Spieltag)
LOCATION:BezirksSportAnlage Maschpark, Schützenanger 1, 37081 Göttingen
UID:SM-B6788@www.tfvh.de
PRIORITY:5
SEQUENCE:0
CATEGORIES:SPORT
DTSTAMP:20260419T225632
END:VEVENT
BEGIN:VEVENT
CLASS:PUBLIC
DTSTART:20260828T200000Z
DURATION:PT2H30M
STATUS:CONFIRMED
SUMMARY:Ruderclub Darmstadt 3 vs. OHK Großenlüder 2
DESCRIPTION:Landesliga Hessen (12. Spieltag)
LOCATION:SKV Rot-Weiß Darmstadt, Winkelschneise 9, 64295 Darmstadt
UID:SM-B6524@www.tfvh.de
PRIORITY:5
SEQUENCE:0
CATEGORIES:SPORT
DTSTAMP:20260419T225632
END:VEVENT
BEGIN:VEVENT
CLASS:PUBLIC
DTSTART:20260830T140000Z
DURATION:PT2H30M
STATUS:CONFIRMED
SUMMARY:OHK Großenlüder 3 vs. TFC Hollenstedt 1
DESCRIPTION:Verbandsliga Nord (12. Spieltag)
LOCATION:Vereinsheim "Kicker-Arena" (Lüderhaus), Wiesenweg 14, 36137 Großenlüder
UID:SM-B6792@www.tfvh.de
PRIORITY:5
SEQUENCE:0
CATEGORIES:SPORT
DTSTAMP:20260419T225632
END:VEVENT
BEGIN:VEVENT
CLASS:PUBLIC
DTSTART:20260911T200000Z
DURATION:PT2H30M
STATUS:CONFIRMED
SUMMARY:OHK Großenlüder 2 vs. SV Wehen Wiesbaden 1
DESCRIPTION:Landesliga Hessen (13. Spieltag)
LOCATION:Vereinsheim "Kicker-Arena" (Lüderhaus), Wiesenweg 14, 36137 Großenlüder
UID:SM-B6529@www.tfvh.de
PRIORITY:5
SEQUENCE:0
CATEGORIES:SPORT
DTSTAMP:20260419T225632
END:VEVENT
BEGIN:VEVENT
CLASS:PUBLIC
DTSTART:20260913T140000Z
DURATION:PT2H30M
STATUS:CONFIRMED
SUMMARY:TFC Knüllwald 1 vs. OHK Großenlüder 3
DESCRIPTION:Verbandsliga Nord (13. Spieltag)
LOCATION:Knüllwald-Rengshausen, Zum Schwimmbad 2, 34593 Knüllwald
UID:SM-B6797@www.tfvh.de
PRIORITY:5
SEQUENCE:0
CATEGORIES:SPORT
DTSTAMP:20260419T225632
END:VEVENT
BEGIN:VEVENT
CLASS:PUBLIC
DTSTART:20260918T200000Z
DURATION:PT2H30M
STATUS:CONFIRMED
SUMMARY:Eintracht Frankfurt 2 vs. OHK Großenlüder 2
DESCRIPTION:Landesliga Hessen (14. Spieltag)
LOCATION:Niddahalle Eintracht Frankfurt, Oeserstraße 74, 65934 Frankfurt am Main
UID:SM-B6531@www.tfvh.de
PRIORITY:5
SEQUENCE:0
CATEGORIES:SPORT
DTSTAMP:20260419T225632
END:VEVENT
BEGIN:VEVENT
CLASS:PUBLIC
DTSTART:20261004T140000Z
DURATION:PT2H30M
STATUS:CONFIRMED
SUMMARY:OHK Großenlüder 3 vs. ASC Göttingen 3
DESCRIPTION:Verbandsliga Nord (15. Spieltag)
LOCATION:Vereinsheim "Kicker-Arena" (Lüderhaus), Wiesenweg 14, 36137 Großenlüder
UID:SM-B6799@www.tfvh.de
PRIORITY:5
SEQUENCE:0
CATEGORIES:SPORT
DTSTAMP:20260419T225632
END:VEVENT
BEGIN:VEVENT
CLASS:PUBLIC
DTSTART:20261023T200000Z
DURATION:PT2H30M
STATUS:CONFIRMED
SUMMARY:OHK Großenlüder 2 vs. Eintracht Frankfurt 3
DESCRIPTION:Landesliga Hessen (16. Spieltag)
LOCATION:Vereinsheim "Kicker-Arena" (Lüderhaus), Wiesenweg 14, 36137 Großenlüder
UID:SM-B6539@www.tfvh.de
PRIORITY:5
SEQUENCE:0
CATEGORIES:SPORT
DTSTAMP:20260419T225632
END:VEVENT
BEGIN:VEVENT
CLASS:PUBLIC
DTSTART:20261106T200000Z
DURATION:PT2H30M
STATUS:CONFIRMED
SUMMARY:Rot-Weiß Radheim 1 vs. OHK Großenlüder 2
DESCRIPTION:Landesliga Hessen (17. Spieltag)
LOCATION:Sportlerheim SV Rot-Weiß Radheim e.V., Hofgarten 9  (Ringstraße 40), 64850 Schaafheim / Radheim
UID:SM-B6544@www.tfvh.de
PRIORITY:5
SEQUENCE:0
CATEGORIES:SPORT
DTSTAMP:20260419T225632
END:VEVENT
BEGIN:VEVENT
CLASS:PUBLIC
DTSTART:20261108T140000Z
DURATION:PT2H30M
STATUS:CONFIRMED
SUMMARY:OHK Großenlüder 3 vs. TFC Kassel 2
DESCRIPTION:Verbandsliga Nord (17. Spieltag)
LOCATION:Vereinsheim "Kicker-Arena" (Lüderhaus), Wiesenweg 14, 36137 Großenlüder
UID:SM-B6805@www.tfvh.de
PRIORITY:5
SEQUENCE:0
CATEGORIES:SPORT
DTSTAMP:20260419T225632
END:VEVENT
BEGIN:VEVENT
CLASS:PUBLIC
DTSTART:20261113T200000Z
DURATION:PT2H30M
STATUS:CONFIRMED
SUMMARY:OHK Großenlüder 2 vs. Rot-Weiß Darmstadt 2
DESCRIPTION:Landesliga Hessen (18. Spieltag)
LOCATION:Vereinsheim "Kicker-Arena" (Lüderhaus), Wiesenweg 14, 36137 Großenlüder
UID:SM-B6547@www.tfvh.de
PRIORITY:5
SEQUENCE:0
CATEGORIES:SPORT
DTSTAMP:20260419T225632
END:VEVENT
BEGIN:VEVENT
CLASS:PUBLIC
DTSTART:20261115T140000Z
DURATION:PT2H30M
STATUS:CONFIRMED
SUMMARY:TFC Kassel 3 vs. OHK Großenlüder 3
DESCRIPTION:Verbandsliga Nord (18. Spieltag)
LOCATION:TFC Kassel, Sickingenstraße 33, 34117 Kassel
UID:SM-B6808@www.tfvh.de
PRIORITY:5
SEQUENCE:0
CATEGORIES:SPORT
DTSTAMP:20260419T225632
END:VEVENT
END:VCALENDAR
